BEGIN:VCALENDAR
VERSION:2.0
PRODID:-//BCMW - ECPv6.15.17.1//NONSGML v1.0//EN
CALSCALE:GREGORIAN
METHOD:PUBLISH
X-ORIGINAL-URL:https://bcmworldwide.org
X-WR-CALDESC:Events for BCMW
REFRESH-INTERVAL;VALUE=DURATION:PT1H
X-Robots-Tag:noindex
X-PUBLISHED-TTL:PT1H
BEGIN:VTIMEZONE
TZID:America/New_York
BEGIN:DAYLIGHT
TZOFFSETFROM:-0500
TZOFFSETTO:-0400
TZNAME:EDT
DTSTART:20220313T070000
END:DAYLIGHT
BEGIN:STANDARD
TZOFFSETFROM:-0400
TZOFFSETTO:-0500
TZNAME:EST
DTSTART:20221106T060000
END:STANDARD
BEGIN:DAYLIGHT
TZOFFSETFROM:-0500
TZOFFSETTO:-0400
TZNAME:EDT
DTSTART:20230312T070000
END:DAYLIGHT
BEGIN:STANDARD
TZOFFSETFROM:-0400
TZOFFSETTO:-0500
TZNAME:EST
DTSTART:20231105T060000
END:STANDARD
BEGIN:DAYLIGHT
TZOFFSETFROM:-0500
TZOFFSETTO:-0400
TZNAME:EDT
DTSTART:20240310T070000
END:DAYLIGHT
BEGIN:STANDARD
TZOFFSETFROM:-0400
TZOFFSETTO:-0500
TZNAME:EST
DTSTART:20241103T060000
END:STANDARD
BEGIN:DAYLIGHT
TZOFFSETFROM:-0500
TZOFFSETTO:-0400
TZNAME:EDT
DTSTART:20250309T070000
END:DAYLIGHT
BEGIN:STANDARD
TZOFFSETFROM:-0400
TZOFFSETTO:-0500
TZNAME:EST
DTSTART:20251102T060000
END:STANDARD
BEGIN:DAYLIGHT
TZOFFSETFROM:-0500
TZOFFSETTO:-0400
TZNAME:EDT
DTSTART:20260308T070000
END:DAYLIGHT
BEGIN:STANDARD
TZOFFSETFROM:-0400
TZOFFSETTO:-0500
TZNAME:EST
DTSTART:20261101T060000
END:STANDARD
END:VTIMEZONE
BEGIN:VTIMEZONE
TZID:America/Chicago
BEGIN:DAYLIGHT
TZOFFSETFROM:-0600
TZOFFSETTO:-0500
TZNAME:CDT
DTSTART:20210314T080000
END:DAYLIGHT
BEGIN:STANDARD
TZOFFSETFROM:-0500
TZOFFSETTO:-0600
TZNAME:CST
DTSTART:20211107T070000
END:STANDARD
BEGIN:DAYLIGHT
TZOFFSETFROM:-0600
TZOFFSETTO:-0500
TZNAME:CDT
DTSTART:20220313T080000
END:DAYLIGHT
BEGIN:STANDARD
TZOFFSETFROM:-0500
TZOFFSETTO:-0600
TZNAME:CST
DTSTART:20221106T070000
END:STANDARD
BEGIN:DAYLIGHT
TZOFFSETFROM:-0600
TZOFFSETTO:-0500
TZNAME:CDT
DTSTART:20230312T080000
END:DAYLIGHT
BEGIN:STANDARD
TZOFFSETFROM:-0500
TZOFFSETTO:-0600
TZNAME:CST
DTSTART:20231105T070000
END:STANDARD
END:VTIMEZONE
BEGIN:VTIMEZONE
TZID:America/Los_Angeles
BEGIN:DAYLIGHT
TZOFFSETFROM:-0800
TZOFFSETTO:-0700
TZNAME:PDT
DTSTART:20190310T100000
END:DAYLIGHT
BEGIN:STANDARD
TZOFFSETFROM:-0700
TZOFFSETTO:-0800
TZNAME:PST
DTSTART:20191103T090000
END:STANDARD
BEGIN:DAYLIGHT
TZOFFSETFROM:-0800
TZOFFSETTO:-0700
TZNAME:PDT
DTSTART:20200308T100000
END:DAYLIGHT
BEGIN:STANDARD
TZOFFSETFROM:-0700
TZOFFSETTO:-0800
TZNAME:PST
DTSTART:20201101T090000
END:STANDARD
BEGIN:DAYLIGHT
TZOFFSETFROM:-0800
TZOFFSETTO:-0700
TZNAME:PDT
DTSTART:20210314T100000
END:DAYLIGHT
BEGIN:STANDARD
TZOFFSETFROM:-0700
TZOFFSETTO:-0800
TZNAME:PST
DTSTART:20211107T090000
END:STANDARD
END:VTIMEZONE
BEGIN:VEVENT
DTSTART;TZID=America/New_York:20251006T000000
DTEND;TZID=America/New_York:20251008T235959
DTSTAMP:20260424T073856
CREATED:20250904T025354Z
LAST-MODIFIED:20250904T025356Z
UID:9758-1759708800-1759967999@bcmworldwide.org
SUMMARY:ACBC Annual Conference
DESCRIPTION:Many BCMW staff\, coordinators\, associate teachers\, and Network counselors will visit Ft Worth\, Texas\, for the annual meeting of the Association of Certified Biblical Counselors (ACBC). BCMW will also be exhibiting as event sponsor.
URL:https://bcmworldwide.org/event/acbc-annual-conference/
LOCATION:Southwestern Baptist Theological Seminary\, 2001 W. Seminary Dr\, Fort Worth\, TX\, 76115\, United States
CATEGORIES:ACBC Annual Conference
ATTACH;FMTTYPE=image/jpeg:https://bcmworldwide.org/wp-content/uploads/2020/06/ACBC-logo-400x391-72-ppi.jpg
ORGANIZER;CN="ACBC":MAILTO:info@biblicalcounseling.com
END:VEVENT
BEGIN:VEVENT
DTSTART;TZID=America/New_York:20241007T000000
DTEND;TZID=America/New_York:20241009T235959
DTSTAMP:20260424T073856
CREATED:20240307T183223Z
LAST-MODIFIED:20240307T183614Z
UID:8779-1728259200-1728518399@bcmworldwide.org
SUMMARY:ACBC Annual Conference: Fort Worth\, TX\, USA
DESCRIPTION:Many BCMW staff\, coordinators\, and team members will travel to Fort Worth to participate in the annual conference of the Association of Certified Biblical Counselors.The pre-conference topic is “Our Steady Anchor\,” focusing on giving hope in our counseling and discipleship.The main conference theme is “Care of Christ\,” which will focus Jesus’s counseling ministry.
URL:https://bcmworldwide.org/event/acbc-annual-conference-fort-worth-tx-usa/
LOCATION:Southwestern Baptist Theological Seminary\, 2001 W. Seminary Dr\, Fort Worth\, TX\, 76115\, United States
CATEGORIES:ACBC Annual Conference,Biblical Counseling Ministries Worldwide,Leadership Development,Local Church Ministry
ATTACH;FMTTYPE=image/jpeg:https://bcmworldwide.org/wp-content/uploads/2020/06/ACBC-logo-400x391-72-ppi.jpg
ORGANIZER;CN="ACBC":MAILTO:info@biblicalcounseling.com
END:VEVENT
BEGIN:VEVENT
DTSTART;TZID=America/New_York:20231002T000000
DTEND;TZID=America/New_York:20231004T235959
DTSTAMP:20260424T073856
CREATED:20230601T200915Z
LAST-MODIFIED:20230601T200918Z
UID:8358-1696204800-1696463999@bcmworldwide.org
SUMMARY:ACBC Annual Conference
DESCRIPTION:Many BCMW staff\, coordinators\, and team members will be in attendance at the annual conference of The Association of Certified Biblical Counselors in Santa Clarita\, California.
URL:https://bcmworldwide.org/event/acbc-annual-conference-3/
LOCATION:Grace Baptist Church\, Santa Clarita\, CA\, 22833 Copper Hill Dr\, Santa Clarita\, CA\, 91350\, United States
CATEGORIES:ACBC Annual Conference
ATTACH;FMTTYPE=image/jpeg:https://bcmworldwide.org/wp-content/uploads/2020/06/ACBC-logo-400x391-72-ppi.jpg
ORGANIZER;CN="ACBC":MAILTO:info@biblicalcounseling.com
END:VEVENT
BEGIN:VEVENT
DTSTART;TZID=America/Chicago:20221003T080000
DTEND;TZID=America/Chicago:20221005T150000
DTSTAMP:20260424T073856
CREATED:20221220T014743Z
LAST-MODIFIED:20221220T014743Z
UID:7948-1664784000-1664982000@bcmworldwide.org
SUMMARY:ACBC Annual Conference
DESCRIPTION:The annual conference for the Association of Certified Biblical Counselors (ACBC)\, which will be held in Memphis\, TN.\n\nBCMW is a Certified Training Center for ACBC and many of our team members are certified members or in the process of becoming members.
URL:https://bcmworldwide.org/event/acbc-annual-conference-2/
LOCATION:Bellevue Baptist Church\, 2000 Appling Road\, Cordova\, TN\, 38016\, United States
CATEGORIES:ACBC Annual Conference
ATTACH;FMTTYPE=image/jpeg:https://bcmworldwide.org/wp-content/uploads/2020/06/ACBC-logo-400x391-72-ppi.jpg
ORGANIZER;CN="ACBC":MAILTO:info@biblicalcounseling.com
END:VEVENT
BEGIN:VEVENT
DTSTART;VALUE=DATE:20201005
DTEND;VALUE=DATE:20201008
DTSTAMP:20260424T073856
CREATED:20200624T191143Z
LAST-MODIFIED:20200909T191100Z
UID:1544-1601856000-1602115199@bcmworldwide.org
SUMMARY:ACBC Annual Conference
DESCRIPTION:The annual conference of the Association of Certified Biblical Counselors (ACBC) will be held virtually this year. \nIf you are interested in attending\, please visit the information and registration on the ACBC website.
URL:https://bcmworldwide.org/event/acbc-annual-conference-sun-valley-california/
LOCATION:Grace Community Church\, 13248 Roscoe Blvd.\, Sun Valley\, CA\, 91352\, United States
CATEGORIES:ACBC Annual Conference,Biblical Counseling Conference,Biblical Counseling Ministries Worldwide,Leadership Development,Local Church Ministry,National Certifying Organization
ATTACH;FMTTYPE=image/jpeg:https://bcmworldwide.org/wp-content/uploads/2020/06/ACBC-logo-400x391-72-ppi.jpg
ORGANIZER;CN="ACBC":MAILTO:info@biblicalcounseling.com
END:VEVENT
END:VCALENDAR