BEGIN:VCALENDAR
VERSION:2.0
PRODID:-//BCMW - ECPv6.15.17.1//NONSGML v1.0//EN
CALSCALE:GREGORIAN
METHOD:PUBLISH
X-WR-CALNAME:BCMW
X-ORIGINAL-URL:https://bcmworldwide.org
X-WR-CALDESC:Events for BCMW
REFRESH-INTERVAL;VALUE=DURATION:PT1H
X-Robots-Tag:noindex
X-PUBLISHED-TTL:PT1H
BEGIN:VTIMEZONE
TZID:America/New_York
BEGIN:DAYLIGHT
TZOFFSETFROM:-0500
TZOFFSETTO:-0400
TZNAME:EDT
DTSTART:20240310T070000
END:DAYLIGHT
BEGIN:STANDARD
TZOFFSETFROM:-0400
TZOFFSETTO:-0500
TZNAME:EST
DTSTART:20241103T060000
END:STANDARD
BEGIN:DAYLIGHT
TZOFFSETFROM:-0500
TZOFFSETTO:-0400
TZNAME:EDT
DTSTART:20250309T070000
END:DAYLIGHT
BEGIN:STANDARD
TZOFFSETFROM:-0400
TZOFFSETTO:-0500
TZNAME:EST
DTSTART:20251102T060000
END:STANDARD
BEGIN:DAYLIGHT
TZOFFSETFROM:-0500
TZOFFSETTO:-0400
TZNAME:EDT
DTSTART:20260308T070000
END:DAYLIGHT
BEGIN:STANDARD
TZOFFSETFROM:-0400
TZOFFSETTO:-0500
TZNAME:EST
DTSTART:20261101T060000
END:STANDARD
END:VTIMEZONE
BEGIN:VEVENT
DTSTART;TZID=America/New_York:20250228T000000
DTEND;TZID=America/New_York:20250301T235959
DTSTAMP:20260424T015334
CREATED:20240803T191725Z
LAST-MODIFIED:20250116T174902Z
UID:9016-1740700800-1740873599@bcmworldwide.org
SUMMARY:CDT Weekend 2: Snohomish CC\, WA\, USA
DESCRIPTION:Our Counseling & Discipleship Training (CDT) will continue with weekend two sessions of our ACBC Fundamentals and Advanced Topics Tracks\, hosted by Snohomish Community Church.The conference will be over three weekends:Fri\, Jan 24 – Sat\, Jan 25Fri\, Feb 28 – Sat\, March 1Fri\, March 28 – Sat\, March 29Fridays:  6 pm to 9:30 pmSaturdays:  8:30 am to 3:45 pm
URL:https://bcmworldwide.org/event/cdt-weekend-2-snohomish-cc-wa-usa/
LOCATION:Snohomish Community Church\, Snohomish\, WA\, 13622 Dubuque Rd\, Snohomish\, Washington\, 98290\, United States
CATEGORIES:ACBC Fundamentals Training Course,ACBC Reconciliation Specialization,BCMW,Leadership Development,Local Church Ministry
ATTACH;FMTTYPE=image/png:https://bcmworldwide.org/wp-content/uploads/2024/08/Snohomish-CC-logo.png
END:VEVENT
BEGIN:VEVENT
DTSTART;TZID=America/New_York:20250228T000000
DTEND;TZID=America/New_York:20250301T235959
DTSTAMP:20260424T015334
CREATED:20240914T004451Z
LAST-MODIFIED:20250116T174815Z
UID:9166-1740700800-1740873599@bcmworldwide.org
SUMMARY:CDT Weekend 1: Montrose\, CO
DESCRIPTION:This first weekend of our Counseling & Discipleship Training (CDT) will include offer sessions in our Foundations and Advanced Tracks\, hosted by Victory Baptist Church. The event will offer options for application of completed training toward ACBC certification or ACBC Member CEUs.The conference will be held over three weekends:Fri\, Feb 28 – Sat\, March 1Fri\, March 21 – Sat\, March 22Fri\, April 11 – Sat\, April 12Fridays:  6 pm to 9:30 pmSaturdays:  8:30 am to 3:45 pm
URL:https://bcmworldwide.org/event/cdt-weekend-1-montrose-co/
LOCATION:Victory Baptist Church\, Montrose\, CO\, 2890 N Townsend Ave\, Montrose\, Colorado\, 81401\, United States
CATEGORIES:ACBC Fundamentals Training Course,BCMW,Leadership Development,Local Church Ministry
ATTACH;FMTTYPE=image/webp:https://bcmworldwide.org/wp-content/uploads/2024/09/Victory-Baptist-Logo-icon.webp
END:VEVENT
BEGIN:VEVENT
DTSTART;TZID=America/New_York:20250321T000000
DTEND;TZID=America/New_York:20250322T235959
DTSTAMP:20260424T015334
CREATED:20240914T004839Z
LAST-MODIFIED:20250116T174717Z
UID:9168-1742515200-1742687999@bcmworldwide.org
SUMMARY:CDT Weekend 2: Montrose\, CO
DESCRIPTION:Our Counseling & Discipleship Training (CDT) will continue with weekend two sessions of our biblical counseling training\, hosted by Victory Baptist Church. The event will include both Foundations and Advanced Tracks\, with options available for application of completed training toward ACBC certification or ACBC Member CEUs.The conference will be held over three weekends:Fri\, Feb 28 – Sat\, March 1Fri\, March 21 – Sat\, March 22Fri\, April 11 – Sat\, April 12 \n\n\n\nFridays: 6 pm to 9:30 pmSaturdays: 8:30 am to 3:45 pm
URL:https://bcmworldwide.org/event/cdt-weekend-2-montrose-co/
LOCATION:Victory Baptist Church\, Montrose\, CO\, 2890 N Townsend Ave\, Montrose\, Colorado\, 81401\, United States
CATEGORIES:ACBC Fundamentals Training Course,BCMW,Leadership Development,Local Church Ministry
ATTACH;FMTTYPE=image/webp:https://bcmworldwide.org/wp-content/uploads/2024/09/Victory-Baptist-Logo-icon.webp
END:VEVENT
BEGIN:VEVENT
DTSTART;TZID=America/New_York:20250328T000000
DTEND;TZID=America/New_York:20250329T235959
DTSTAMP:20260424T015334
CREATED:20240803T192127Z
LAST-MODIFIED:20250116T174924Z
UID:9019-1743120000-1743292799@bcmworldwide.org
SUMMARY:CDT Weekend 3: Snohomish CC\, WA\, USA
DESCRIPTION:This current set of our Counseling & Discipleship Training (CDT) will conclude with the final weekend of ACBC Fundamentals and Advanced Topics Tracks\, hosted by Snohomish Community Church.The conference will be over three weekends:Fri\, Jan 24 – Sat\, Jan 25Fri\, Feb 28 – Sat\, March 1Fri\, March 28 – Sat\, March 29Fridays:  6 pm to 9:30 pmSaturdays:  8:30 am to 3:45 pm
URL:https://bcmworldwide.org/event/cdt-weekend-3-snohomish-cc-wa-usa/
LOCATION:Snohomish Community Church\, Snohomish\, WA\, 13622 Dubuque Rd\, Snohomish\, Washington\, 98290\, United States
CATEGORIES:ACBC Fundamentals Training Course,ACBC Reconciliation Specialization,BCMW,Leadership Development,Local Church Ministry
ATTACH;FMTTYPE=image/jpeg:https://bcmworldwide.org/wp-content/uploads/2024/08/Snohomish-CC-2024.08.03-Website-logo.jpeg
END:VEVENT
END:VCALENDAR