BEGIN:VCALENDAR
VERSION:2.0
PRODID:-//BCMW - ECPv6.15.17.1//NONSGML v1.0//EN
CALSCALE:GREGORIAN
METHOD:PUBLISH
X-WR-CALNAME:BCMW
X-ORIGINAL-URL:https://bcmworldwide.org
X-WR-CALDESC:Events for BCMW
REFRESH-INTERVAL;VALUE=DURATION:PT1H
X-Robots-Tag:noindex
X-PUBLISHED-TTL:PT1H
BEGIN:VTIMEZONE
TZID:America/New_York
BEGIN:DAYLIGHT
TZOFFSETFROM:-0500
TZOFFSETTO:-0400
TZNAME:EDT
DTSTART:20250309T070000
END:DAYLIGHT
BEGIN:STANDARD
TZOFFSETFROM:-0400
TZOFFSETTO:-0500
TZNAME:EST
DTSTART:20251102T060000
END:STANDARD
BEGIN:DAYLIGHT
TZOFFSETFROM:-0500
TZOFFSETTO:-0400
TZNAME:EDT
DTSTART:20260308T070000
END:DAYLIGHT
BEGIN:STANDARD
TZOFFSETFROM:-0400
TZOFFSETTO:-0500
TZNAME:EST
DTSTART:20261101T060000
END:STANDARD
BEGIN:DAYLIGHT
TZOFFSETFROM:-0500
TZOFFSETTO:-0400
TZNAME:EDT
DTSTART:20270314T070000
END:DAYLIGHT
BEGIN:STANDARD
TZOFFSETFROM:-0400
TZOFFSETTO:-0500
TZNAME:EST
DTSTART:20271107T060000
END:STANDARD
END:VTIMEZONE
BEGIN:VEVENT
DTSTART;TZID=America/New_York:20260313T000000
DTEND;TZID=America/New_York:20260314T235959
DTSTAMP:20260423T193005
CREATED:20250901T204033Z
LAST-MODIFIED:20251223T001912Z
UID:9725-1773360000-1773532799@bcmworldwide.org
SUMMARY:Montrose 2026 CDT - Weekend 2
DESCRIPTION:BCMW trainers and Celebration Church and Victory Baptist pastors will lead the sessions for weekend 2 of the 2026 Counseling & Discipleship Training (CDT) Conference. The conference will include both the Foundations and Advanced Tracks.Foundations TrackWeekend 2 – Biblical Counseling: Common IssuesAddresses common issues\, such as depression\, anxiety\, anger\, trials and suffering\, forgiveness\, guilt and repentance\, and/or other issues noted by the host church(es).Advanced TrackThe theme for this weekend will be Marriage and Family\, with nine specific topics to be covered.
URL:https://bcmworldwide.org/event/montrose-2026-cdt-weekend-2/
LOCATION:Victory Baptist Church\, Montrose\, CO\, 2890 N Townsend Ave\, Montrose\, Colorado\, 81401\, United States
CATEGORIES:BCMW,CDT,Leadership Development,Local Church Ministry
ATTACH;FMTTYPE=image/jpeg:https://bcmworldwide.org/wp-content/uploads/2024/09/Celebration-Church-Logo.jpg
ORGANIZER;CN="Jen Douglas":MAILTO:jen@bcmworldwide.org
END:VEVENT
BEGIN:VEVENT
DTSTART;TZID=America/New_York:20260327T000000
DTEND;TZID=America/New_York:20260328T235959
DTSTAMP:20260423T193005
CREATED:20250901T003310Z
LAST-MODIFIED:20250901T201503Z
UID:9721-1774569600-1774742399@bcmworldwide.org
SUMMARY:Snohomish 2026 CDT - Weekend 3
DESCRIPTION:Weekend 3 – Biblical Counseling: Marriage and Family IssuesAddresses common issues people face in marriage and family relationships. \n\n\n\nBCWM trainers and Snohomish Community Church staff members will lead the sessions for the third and final weekend of the 2026 Counseling & Discipleship Training (CDT) Conference.
URL:https://bcmworldwide.org/event/snohomish-2026-cdt-weekend-3/
LOCATION:Snohomish Community Church\, Snohomish\, WA\, 13622 Dubuque Rd\, Snohomish\, Washington\, 98290\, United States
CATEGORIES:BCMW,CDT,Leadership Development,Local Church Ministry
ATTACH;FMTTYPE=image/jpeg:https://bcmworldwide.org/wp-content/uploads/2024/08/Snohomish-CC-2024.08.03-Website-logo.jpeg
END:VEVENT
END:VCALENDAR