BEGIN:VCALENDAR
VERSION:2.0
PRODID:-//BCMW - ECPv6.15.17.1//NONSGML v1.0//EN
CALSCALE:GREGORIAN
METHOD:PUBLISH
X-WR-CALNAME:BCMW
X-ORIGINAL-URL:https://bcmworldwide.org
X-WR-CALDESC:Events for BCMW
REFRESH-INTERVAL;VALUE=DURATION:PT1H
X-Robots-Tag:noindex
X-PUBLISHED-TTL:PT1H
BEGIN:VTIMEZONE
TZID:America/New_York
BEGIN:DAYLIGHT
TZOFFSETFROM:-0500
TZOFFSETTO:-0400
TZNAME:EDT
DTSTART:20200308T070000
END:DAYLIGHT
BEGIN:STANDARD
TZOFFSETFROM:-0400
TZOFFSETTO:-0500
TZNAME:EST
DTSTART:20201101T060000
END:STANDARD
BEGIN:DAYLIGHT
TZOFFSETFROM:-0500
TZOFFSETTO:-0400
TZNAME:EDT
DTSTART:20210314T070000
END:DAYLIGHT
BEGIN:STANDARD
TZOFFSETFROM:-0400
TZOFFSETTO:-0500
TZNAME:EST
DTSTART:20211107T060000
END:STANDARD
BEGIN:DAYLIGHT
TZOFFSETFROM:-0500
TZOFFSETTO:-0400
TZNAME:EDT
DTSTART:20220313T070000
END:DAYLIGHT
BEGIN:STANDARD
TZOFFSETFROM:-0400
TZOFFSETTO:-0500
TZNAME:EST
DTSTART:20221106T060000
END:STANDARD
END:VTIMEZONE
BEGIN:VTIMEZONE
TZID:America/Anchorage
BEGIN:DAYLIGHT
TZOFFSETFROM:-0900
TZOFFSETTO:-0800
TZNAME:AKDT
DTSTART:20200308T110000
END:DAYLIGHT
BEGIN:STANDARD
TZOFFSETFROM:-0800
TZOFFSETTO:-0900
TZNAME:AKST
DTSTART:20201101T100000
END:STANDARD
BEGIN:DAYLIGHT
TZOFFSETFROM:-0900
TZOFFSETTO:-0800
TZNAME:AKDT
DTSTART:20210314T110000
END:DAYLIGHT
BEGIN:STANDARD
TZOFFSETFROM:-0800
TZOFFSETTO:-0900
TZNAME:AKST
DTSTART:20211107T100000
END:STANDARD
BEGIN:DAYLIGHT
TZOFFSETFROM:-0900
TZOFFSETTO:-0800
TZNAME:AKDT
DTSTART:20220313T110000
END:DAYLIGHT
BEGIN:STANDARD
TZOFFSETFROM:-0800
TZOFFSETTO:-0900
TZNAME:AKST
DTSTART:20221106T100000
END:STANDARD
END:VTIMEZONE
BEGIN:VTIMEZONE
TZID:Africa/Kampala
BEGIN:STANDARD
TZOFFSETFROM:+0300
TZOFFSETTO:+0300
TZNAME:EAT
DTSTART:20200101T000000
END:STANDARD
END:VTIMEZONE
BEGIN:VTIMEZONE
TZID:America/Costa_Rica
BEGIN:STANDARD
TZOFFSETFROM:-0600
TZOFFSETTO:-0600
TZNAME:CST
DTSTART:20200101T000000
END:STANDARD
END:VTIMEZONE
BEGIN:VEVENT
DTSTART;VALUE=DATE:20211126
DTEND;VALUE=DATE:20211128
DTSTAMP:20260422T023450
CREATED:20210406T040751Z
LAST-MODIFIED:20210406T040751Z
UID:5486-1637884800-1638057599@bcmworldwide.org
SUMMARY:CLT Module 4: Australia
DESCRIPTION:Module 4 \nBiblical Counseling: How Do You Share It?\n(Developing a Local Church Biblical Counseling and Training Center) \nAdrian Martinez and Brad Rumble will be teaching these sessions.
URL:https://bcmworldwide.org/event/clt-module-4-australia-3/
LOCATION:Oakleigh Baptist Church\, 185 Warrigal Road\, Hughesdale\, VIC\, 3166\, Australia
CATEGORIES:BCMW,Biblical Counseling Ministries Worldwide,Biblical Soul Care Australia,Church Leadership Training Modules,CLT,Discover BCMW,Leadership Development,Local Church Ministry,Module 4
ORGANIZER;CN="Adrian & Jenny Martinez":MAILTO:adrian@vertical.org.au
END:VEVENT
BEGIN:VEVENT
DTSTART;TZID=America/New_York:20211120T000000
DTEND;TZID=America/New_York:20211120T235959
DTSTAMP:20260422T023450
CREATED:20211119T153457Z
LAST-MODIFIED:20211119T153457Z
UID:6039-1637366400-1637452799@bcmworldwide.org
SUMMARY:CLT Module 2: Thailand
DESCRIPTION:Module 2\nBiblical Counseling: How Do You Do It?\n(Teaching the Process and Procedures of Biblical Counseling)\n\nDan and Mam Rutledge will be leading discussion of counseling case studies as well as practice through role play for local pastors and church members.
URL:https://bcmworldwide.org/event/clt-module-2-thailand/
LOCATION:Thailand\, Thailand
CATEGORIES:BCMW,Church Leadership Training Modules,CLT,Leadership Development,Module 2
ORGANIZER;CN="Dan Rutledge":MAILTO:heartsredeemed@gmail.com
END:VEVENT
BEGIN:VEVENT
DTSTART;VALUE=DATE:20211119
DTEND;VALUE=DATE:20211121
DTSTAMP:20260422T023450
CREATED:20210406T035420Z
LAST-MODIFIED:20210406T035420Z
UID:5477-1637280000-1637452799@bcmworldwide.org
SUMMARY:CLT Module #4: Australia
DESCRIPTION:Module 4 \nBiblical Counseling: How Do You Share It?\n(Developing a Local Church Biblical Counseling and Training Center) \nAdrian Martinez will be teaching these sessions.
URL:https://bcmworldwide.org/event/clt-module-4-australia-2/
LOCATION:Reforming Church\, 17 Victa Road\, East Bendigo\, Victoria\, 3550\, Australia
CATEGORIES:BCMW,Biblical Counseling Ministries Worldwide,Biblical Soul Care Australia,Church Leadership Training Modules,CLT,Discover BCMW,Leadership Development,Local Church Ministry,Module 4
ORGANIZER;CN="Adrian & Jenny Martinez":MAILTO:adrian@vertical.org.au
END:VEVENT
BEGIN:VEVENT
DTSTART;TZID=America/New_York:20211115T000000
DTEND;TZID=America/New_York:20211115T235959
DTSTAMP:20260422T023450
CREATED:20211119T033519Z
LAST-MODIFIED:20211119T033619Z
UID:6031-1636934400-1637020799@bcmworldwide.org
SUMMARY:CLT Module 1: Boa Vista\, Brazil
DESCRIPTION:Module 1\nBiblical Counseling: What it is?\n(Defining a Biblical Sufficiency-Based Model of Personal Ministry and the Nature of Personal Spiritual Growth)\n  \nThis first module will be taught by Tiago Wagner.  If you are interested attending the ongoing training to be held in Boa Vista\, please feel free to contact us using this form.
URL:https://bcmworldwide.org/event/clt-module-1-boa-vista-brazil/
LOCATION:Boa Vista\, Boa Vista\, Brazil
CATEGORIES:BCMW,Church Leadership Training Modules,CLT,Local Church Ministry,Module 1
ATTACH;FMTTYPE=image/jpeg:https://bcmworldwide.org/wp-content/uploads/2020/08/Wagner-Tiago-with-BCMW-Banner-338x450-72-ppi.jpg
ORGANIZER;CN="Tiago & Ariane Wagner":MAILTO:tiagowag@gmail.com
END:VEVENT
BEGIN:VEVENT
DTSTART;VALUE=DATE:20211105
DTEND;VALUE=DATE:20211107
DTSTAMP:20260422T023450
CREATED:20210406T032431Z
LAST-MODIFIED:20210406T032431Z
UID:5467-1636070400-1636243199@bcmworldwide.org
SUMMARY:CLT Module 4: Australia
DESCRIPTION:Module 4 \nBiblical Counseling: How Do You Share It?\n(Developing a Local Church Biblical Counseling and Training Center) \nAdrian Martinez will be teaching these sessions.
URL:https://bcmworldwide.org/event/clt-module-4-australia/
LOCATION:Drouin Presbyterian Church\, Church St\, Drouin\, VIC\, 3818\, Australia
CATEGORIES:BCMW,Biblical Counseling Ministries Worldwide,CLT,Leadership Development,Local Church Ministry,Module 4
ORGANIZER;CN="Adrian & Jenny Martinez":MAILTO:adrian@vertical.org.au
END:VEVENT
BEGIN:VEVENT
DTSTART;VALUE=DATE:20211014
DTEND;VALUE=DATE:20211016
DTSTAMP:20260422T023450
CREATED:20200620T031350Z
LAST-MODIFIED:20200731T141010Z
UID:1084-1634169600-1634342399@bcmworldwide.org
SUMMARY:CLT Module 4: Soldotna\, Alaska
DESCRIPTION:Church Leadership Training Module 4 \nBiblical Counseling: How Do You Share It?\n(Developing a Local Church Biblical Counseling and Training Center)
URL:https://bcmworldwide.org/event/clt-module-4-soldotna-alaska/
LOCATION:Soldotna Bible Chapel\, 300 W. Marydale Avenue\, Soldotna\, AK\, 99669\, United States
CATEGORIES:Biblical Counseling Ministries Worldwide,Church Leadership Training Modules,CLT,Leadership Development,Local Church Ministry,Module 4
ORGANIZER;CN="Tarkus & Autumn Mossberg":MAILTO:tarkus@bcmworldwide.org
END:VEVENT
BEGIN:VEVENT
DTSTART;VALUE=DATE:20211001
DTEND;VALUE=DATE:20211003
DTSTAMP:20260422T023450
CREATED:20210406T040430Z
LAST-MODIFIED:20210406T040430Z
UID:5484-1633046400-1633219199@bcmworldwide.org
SUMMARY:CLT Module 3: Australia
DESCRIPTION:Module 3 \nBiblical Counseling: How Do You Do It More Effectively?\n(Addressing Common Counseling Issues from God’s Perspective) \nAdrian Martinez and Brad Rumble will be teaching these sessions.
URL:https://bcmworldwide.org/event/clt-module-3-australia-3/
LOCATION:Oakleigh Baptist Church\, 185 Warrigal Road\, Hughesdale\, VIC\, 3166\, Australia
CATEGORIES:BCMW,Biblical Counseling Ministries Worldwide,Biblical Soul Care Australia,Church Leadership Training Modules,CLT,Discover BCMW,Leadership Development,Local Church Ministry,Module 3
ORGANIZER;CN="Adrian & Jenny Martinez":MAILTO:adrian@vertical.org.au
END:VEVENT
BEGIN:VEVENT
DTSTART;VALUE=DATE:20210917
DTEND;VALUE=DATE:20210919
DTSTAMP:20260422T023450
CREATED:20210406T034932Z
LAST-MODIFIED:20210406T034932Z
UID:5475-1631836800-1632009599@bcmworldwide.org
SUMMARY:CLT Module 3: Australia
DESCRIPTION:Module 3 \nBiblical Counseling: How Do You Do It More Effectively?\n(Addressing Common Counseling Issues from God’s Perspective) \nAdrian Martinez will be teaching these sessions.
URL:https://bcmworldwide.org/event/clt-module-3-australia-2/
LOCATION:Reforming Church\, 17 Victa Road\, East Bendigo\, Victoria\, 3550\, Australia
CATEGORIES:BCMW,Biblical Counseling Ministries Worldwide,Biblical Soul Care Australia,Church Leadership Training Modules,CLT,Discover BCMW,Leadership Development,Local Church Ministry,Module 3
ORGANIZER;CN="Adrian & Jenny Martinez":MAILTO:adrian@vertical.org.au
END:VEVENT
BEGIN:VEVENT
DTSTART;VALUE=DATE:20210903
DTEND;VALUE=DATE:20210905
DTSTAMP:20260422T023450
CREATED:20210406T031809Z
LAST-MODIFIED:20210406T031809Z
UID:5465-1630627200-1630799999@bcmworldwide.org
SUMMARY:CLT Module 3: Australia
DESCRIPTION:Module 3 \nBiblical Counseling: How Do You Do It More Effectively?\n(Addressing Common Counseling Issues from God’s Perspective) \nAdrian Martinez will be teaching these sessions.
URL:https://bcmworldwide.org/event/clt-module-3-australia/
LOCATION:Drouin Presbyterian Church\, Church St\, Drouin\, VIC\, 3818\, Australia
CATEGORIES:BCMW,Biblical Counseling Ministries Worldwide,Biblical Soul Care Australia,Church Leadership Training Modules,CLT,Leadership Development,Local Church Ministry,Module 3
ORGANIZER;CN="Adrian & Jenny Martinez":MAILTO:adrian@vertical.org.au
END:VEVENT
BEGIN:VEVENT
DTSTART;VALUE=DATE:20210828
DTEND;VALUE=DATE:20210830
DTSTAMP:20260422T023450
CREATED:20210527T183053Z
LAST-MODIFIED:20210527T183813Z
UID:5688-1630108800-1630281599@bcmworldwide.org
SUMMARY:CLT Module 1b: Honduras\, Mexico\, Costa Rica
DESCRIPTION:Module 1b \nBiblical Counseling: What it is? \n(Defining a Biblical Sufficiency-Based Model of Personal Ministry and the Nature of Personal Spiritual Growth) \nBryan Nevin\, Ryan Hansen and Andrew Hane will be teaching this module. \nThis module will be held on Zoom.
URL:https://bcmworldwide.org/event/clt-module-1b-honduras-mexico-costa-rica/
CATEGORIES:Biblical Counseling Ministries Worldwide,Church Leadership Training Modules,CLT,Module 1
ATTACH;FMTTYPE=image/png:https://bcmworldwide.org/wp-content/uploads/2020/08/BCMW-w-words-blue-240x200-1.png
END:VEVENT
BEGIN:VEVENT
DTSTART;VALUE=DATE:20210821
DTEND;VALUE=DATE:20210823
DTSTAMP:20260422T023450
CREATED:20210527T182759Z
LAST-MODIFIED:20210527T182759Z
UID:5686-1629504000-1629676799@bcmworldwide.org
SUMMARY:CLT Module 1a: Honduras\, Mexico\, Costa Rica
DESCRIPTION:Module 1a \nBiblical Counseling: What it is? \n(Defining a Biblical Sufficiency-Based Model of Personal Ministry and the Nature of Personal Spiritual Growth) \nBryan Nevin\, Ryan Hansen and Andrew Hane will be teaching this module. \nThis module will be held on Zoom.
URL:https://bcmworldwide.org/event/clt-module-1a-honduras-mexico-costa-rica/
CATEGORIES:Biblical Counseling Ministries Worldwide,Church Leadership Training Modules,CLT,Module 1
ATTACH;FMTTYPE=image/png:https://bcmworldwide.org/wp-content/uploads/2020/08/BCMW-w-words-blue-240x200-1.png
ORGANIZER;CN="Bryan Nevin":MAILTO:bryan@bcmworldwide.org
END:VEVENT
BEGIN:VEVENT
DTSTART;VALUE=DATE:20210730
DTEND;VALUE=DATE:20210801
DTSTAMP:20260422T023450
CREATED:20210406T040132Z
LAST-MODIFIED:20210406T040132Z
UID:5482-1627603200-1627775999@bcmworldwide.org
SUMMARY:CLT Module 2: Australia
DESCRIPTION:Module 2 \nBiblical Counseling: How Do You Do It?\n(Teaching the Process and Procedures of Biblical Counseling) \nAdrian Martinez and Brad Rumble will be teaching these sessions.
URL:https://bcmworldwide.org/event/clt-module-2-australia-3/
LOCATION:Oakleigh Baptist Church\, 185 Warrigal Road\, Hughesdale\, VIC\, 3166\, Australia
CATEGORIES:BCMW,Biblical Counseling Ministries Worldwide,Biblical Soul Care Australia,Church Leadership Training Modules,CLT,Leadership Development,Local Church Ministry,Module 2
ORGANIZER;CN="Adrian & Jenny Martinez":MAILTO:adrian@vertical.org.au
END:VEVENT
BEGIN:VEVENT
DTSTART;VALUE=DATE:20210716
DTEND;VALUE=DATE:20210718
DTSTAMP:20260422T023450
CREATED:20210406T033721Z
LAST-MODIFIED:20210406T033721Z
UID:5472-1626393600-1626566399@bcmworldwide.org
SUMMARY:CLT Module 2: Australia
DESCRIPTION:Module 2 \nBiblical Counseling: How Do You Do It?\n(Teaching the Process and Procedures of Biblical Counseling) \nAdrian Martinez will be teaching these sessions.
URL:https://bcmworldwide.org/event/clt-module-2-australia-2/
LOCATION:Reforming Church\, 17 Victa Road\, East Bendigo\, Victoria\, 3550\, Australia
CATEGORIES:BCMW,Biblical Counseling Ministries Worldwide,Biblical Soul Care Australia,Church Leadership Training Modules,CLT,Module 2
ORGANIZER;CN="Adrian & Jenny Martinez":MAILTO:adrian@vertical.org.au
END:VEVENT
BEGIN:VEVENT
DTSTART;VALUE=DATE:20210702
DTEND;VALUE=DATE:20210704
DTSTAMP:20260422T023450
CREATED:20210406T022326Z
LAST-MODIFIED:20210406T022326Z
UID:5462-1625184000-1625356799@bcmworldwide.org
SUMMARY:CLT Module #2: Australia
DESCRIPTION:Module 2 \nBiblical Counseling: How Do You Do It?\n(Teaching the Process and Procedures of Biblical Counseling) \nAdrian Martinez will be teaching these sessions.
URL:https://bcmworldwide.org/event/clt-module-2-australia/
LOCATION:Drouin Presbyterian Church\, Church St\, Drouin\, VIC\, 3818\, Australia
CATEGORIES:BCMW,Biblical Counseling Ministries Worldwide,CLT,Leadership Development,Local Church Ministry,Module 2
ORGANIZER;CN="Adrian & Jenny Martinez":MAILTO:adrian@vertical.org.au
END:VEVENT
BEGIN:VEVENT
DTSTART;VALUE=DATE:20210619
DTEND;VALUE=DATE:20210620
DTSTAMP:20260422T023450
CREATED:20210625T134810Z
LAST-MODIFIED:20210625T134810Z
UID:5822-1624060800-1624147199@bcmworldwide.org
SUMMARY:CLT Session 11:  Chernigiv\, Ukraine
DESCRIPTION:Session 11 \nBiblical Counseling: How Do You Share It?\n(Developing a Local Church Biblical Counseling and Training Center) \nThis final one-day session will include overview\, church discipline and selected elements of Module 4.
URL:https://bcmworldwide.org/event/clt-session-11-chernigiv-ukraine/
LOCATION:Chernigiv\, Ukraine\, 108 Tolstogo Street\, Chernigiv\, Ukraine
CATEGORIES:Biblical Counseling Ministries Worldwide,Church Leadership Training Modules,CLT,Leadership Development,Local Church Ministry,Module 4
ATTACH;FMTTYPE=image/jpeg:https://bcmworldwide.org/wp-content/uploads/2020/06/Ukraine-map-450x313-72-ppi.jpg
ORGANIZER;CN="Andriy Murzin":MAILTO:andriy@bcmworldwide.org
END:VEVENT
BEGIN:VEVENT
DTSTART;VALUE=DATE:20210609
DTEND;VALUE=DATE:20210612
DTSTAMP:20260422T023450
CREATED:20210406T020951Z
LAST-MODIFIED:20210607T223326Z
UID:5457-1623196800-1623455999@bcmworldwide.org
SUMMARY:CANCELLED - CLT Module 3: Uganda
DESCRIPTION:This event has been cancelled due to travel restrictions. Please check back for information regarding the new date for this module. \nModule 3 \nBiblical Counseling: How Do You Do It More Effectively?\n(Addressing Common Counseling Issues from God’s Perspective) \nTom Maxham\, Kevin Hurt and Prince Sabena will be teaching this sessions.
URL:https://bcmworldwide.org/event/clt-module-3-uganda/
LOCATION:Kajjansi\, Uganda\, Kajjansi\, Uganda
CATEGORIES:BCMW,Biblical Counseling Ministries Worldwide,Church Leadership Training Modules,CLT,Module 3
ORGANIZER;CN="Tom & Patty Maxham":MAILTO:tom@bcmworldwide.org
END:VEVENT
BEGIN:VEVENT
DTSTART;VALUE=DATE:20210529
DTEND;VALUE=DATE:20210530
DTSTAMP:20260422T023450
CREATED:20210309T173146Z
LAST-MODIFIED:20210309T173146Z
UID:5397-1622246400-1622332799@bcmworldwide.org
SUMMARY:CLT Module 4a: Australia
DESCRIPTION:Module 4a \n\n\n\n[AKA Applying Biblical Soul Care Principles within the Church]\n\n\n\nBiblical Counseling: How Do You Share It?\n(Developing a Local Church Biblical Counseling and Training Center) \nThis is the first part of Module 4. \nAdrian Martinez will be teaching these sessions.
URL:https://bcmworldwide.org/event/clt-module-4a-australia/
LOCATION:All Nations Presbyterian Church\, 91 Tiverton Dr.\, Mulgrave\, VIC\, 3170\, Australia
CATEGORIES:Biblical Counseling Ministries Worldwide,Biblical Soul Care Australia,Church Leadership Training Modules,CLT,Leadership Development,Local Church Ministry,Module 4
ORGANIZER;CN="Adrian & Jenny Martinez":MAILTO:adrian@vertical.org.au
END:VEVENT
BEGIN:VEVENT
DTSTART;VALUE=DATE:20210521
DTEND;VALUE=DATE:20210523
DTSTAMP:20260422T023450
CREATED:20210406T035825Z
LAST-MODIFIED:20210406T035825Z
UID:5479-1621555200-1621727999@bcmworldwide.org
SUMMARY:CLT Module 1: Australia
DESCRIPTION:Module 1 \nBiblical Counseling: What it is?\n(Defining a Biblical Sufficiency-Based Model of Personal Ministry and the Nature of Personal Spiritual Growth) \nAdrian Martinez and Brad Rumble will be teaching these sessions.
URL:https://bcmworldwide.org/event/clt-module-1-australia-3/
LOCATION:Oakleigh Baptist Church\, 185 Warrigal Road\, Hughesdale\, VIC\, 3166\, Australia
CATEGORIES:BCMW,Biblical Counseling Ministries Worldwide,Biblical Soul Care Australia,Church Leadership Training Modules,CLT,Discover BCMW,Leadership Development,Local Church Ministry,Module 1
ORGANIZER;CN="Adrian & Jenny Martinez":MAILTO:adrian@vertical.org.au
END:VEVENT
BEGIN:VEVENT
DTSTART;VALUE=DATE:20210515
DTEND;VALUE=DATE:20210516
DTSTAMP:20260422T023450
CREATED:20210406T033137Z
LAST-MODIFIED:20210406T033137Z
UID:5469-1621036800-1621123199@bcmworldwide.org
SUMMARY:CLT Module 1: Australia
DESCRIPTION:Module 1 \nBiblical Counseling: What it is?\n(Defining a Biblical Sufficiency-Based Model of Personal Ministry and the Nature of Personal Spiritual Growth) \nAdrian Martinez will be teaching these sessions.
URL:https://bcmworldwide.org/event/clt-module-1-australia-2/
LOCATION:Reforming Church\, 17 Victa Road\, East Bendigo\, Victoria\, 3550\, Australia
CATEGORIES:BCMW,Biblical Counseling Ministries Worldwide,Biblical Soul Care Australia,Church Leadership Training Modules,CLT,Discover BCMW,Leadership Development,Local Church Ministry,Module 1
ORGANIZER;CN="Adrian & Jenny Martinez":MAILTO:adrian@vertical.org.au
END:VEVENT
BEGIN:VEVENT
DTSTART;VALUE=DATE:20210501
DTEND;VALUE=DATE:20210505
DTSTAMP:20260422T023450
CREATED:20210406T021827Z
LAST-MODIFIED:20210406T021827Z
UID:5459-1619827200-1620172799@bcmworldwide.org
SUMMARY:CLT Module 1: Australia
DESCRIPTION:Module 1 \nBiblical Counseling: What it is?\n(Defining a Biblical Sufficiency-Based Model of Personal Ministry and the Nature of Personal Spiritual Growth) \nAdrian Martinez will be teaching these sessions.
URL:https://bcmworldwide.org/event/clt-module-1-australia/
LOCATION:Drouin Presbyterian Church\, Church St\, Drouin\, VIC\, 3818\, Australia
CATEGORIES:BCMW,Biblical Counseling Ministries Worldwide,Church Leadership Training Modules,CLT,Local Church Ministry,Module 1
END:VEVENT
BEGIN:VEVENT
DTSTART;VALUE=DATE:20210426
DTEND;VALUE=DATE:20210429
DTSTAMP:20260422T023450
CREATED:20210406T020417Z
LAST-MODIFIED:20210406T020417Z
UID:5455-1619395200-1619654399@bcmworldwide.org
SUMMARY:CLT Module 4: Kohn Kaen\, Thailand
DESCRIPTION:Module 4 \nBiblical Counseling: How Do You Share It?\n(Developing a Local Church Biblical Counseling and Training Center) \nDan Rutledge and Gary Peña will be teaching these sessions \n 
URL:https://bcmworldwide.org/event/clt-module-4-kohn-kaen-thailand-2/
LOCATION:Kohn Kaen\, Thailand\, Kohn Kaen\, Thailand
CATEGORIES:Biblical Counseling Ministries Worldwide,Church Leadership Training Modules,CLT,Module 4
ORGANIZER;CN="Dan Rutledge":MAILTO:heartsredeemed@gmail.com
END:VEVENT
BEGIN:VEVENT
DTSTART;VALUE=DATE:20210426
DTEND;VALUE=DATE:20210429
DTSTAMP:20260422T023450
CREATED:20210403T152239Z
LAST-MODIFIED:20210403T152239Z
UID:5447-1619395200-1619654399@bcmworldwide.org
SUMMARY:CLT Module 4: Kohn Kaen\, Thailand
DESCRIPTION:Module 4 \nBiblical Counseling: How Do You Share It?\n(Developing a Local Church Biblical Counseling and Training Center) \nUnless otherwise noted\, this module will be held in person.  And\, Dan Rutledge and Gary Pena will be teaching the sessions.
URL:https://bcmworldwide.org/event/clt-module-4-kohn-kaen-thailand/
LOCATION:Kohn Kaen\, Thailand\, Kohn Kaen\, Thailand
CATEGORIES:Biblical Counseling Ministries Worldwide,Church Leadership Training Modules,CLT,Leadership Development,Local Church Ministry,Module 4
ATTACH;FMTTYPE=image/jpeg:https://bcmworldwide.org/wp-content/uploads/2020/08/Thailand-Map-300x487-72-ppi.jpg
ORGANIZER;CN="Dan Rutledge":MAILTO:heartsredeemed@gmail.com
END:VEVENT
BEGIN:VEVENT
DTSTART;VALUE=DATE:20210424
DTEND;VALUE=DATE:20210425
DTSTAMP:20260422T023450
CREATED:20210309T173023Z
LAST-MODIFIED:20210309T173023Z
UID:5395-1619222400-1619308799@bcmworldwide.org
SUMMARY:CLT Module 3a: Australia
DESCRIPTION:Module 3a \nApplying Biblical Soul Care Principles in Relationships\n[AKA Biblical Counseling: How Do You Do It More Effectively?]\n(Addressing Common Counseling Issues from God’s Perspective) \nAdrian Martinez will be teaching these sessions.
URL:https://bcmworldwide.org/event/clt-module-3a-australia/
LOCATION:All Nations Presbyterian Church\, 91 Tiverton Dr.\, Mulgrave\, VIC\, 3170\, Australia
CATEGORIES:Biblical Counseling Ministries Worldwide,Church Leadership Training Modules,CLT,Leadership Development,Local Church Ministry
ORGANIZER;CN="Adrian & Jenny Martinez":MAILTO:adrian@vertical.org.au
END:VEVENT
BEGIN:VEVENT
DTSTART;VALUE=DATE:20210408
DTEND;VALUE=DATE:20210411
DTSTAMP:20260422T023450
CREATED:20200624T182425Z
LAST-MODIFIED:20210406T040843Z
UID:1516-1617840000-1618099199@bcmworldwide.org
SUMMARY:CLT Module 3: Soldotna\, Alaska
DESCRIPTION:CLT Module 3: \nBiblical Counseling: How Do You Do It More Effectively?\n(Addressing Common Counseling Issues from God’s Perspective) \nDr. John Street and Dr. Ernie Baker will be providing instruction for this module.
URL:https://bcmworldwide.org/event/clt-module-3-soldotna-alaska/
LOCATION:Soldotna Bible Chapel\, 300 W. Marydale Avenue\, Soldotna\, AK\, 99669\, United States
CATEGORIES:Biblical Counseling Ministries Worldwide,Church Leadership Training Modules,CLT,Leadership Development,Local Church Ministry,Module 3
ATTACH;FMTTYPE=image/jpeg:https://bcmworldwide.org/wp-content/uploads/2020/06/Mossberg-Tarkus-teaching-450x419-72-ppi.jpg
ORGANIZER;CN="Tarkus & Autumn Mossberg":MAILTO:tarkus@bcmworldwide.org
END:VEVENT
BEGIN:VEVENT
DTSTART;TZID=America/New_York:20210327T080000
DTEND;TZID=America/New_York:20210327T170000
DTSTAMP:20260422T023450
CREATED:20210403T152827Z
LAST-MODIFIED:20210403T153104Z
UID:5449-1616832000-1616864400@bcmworldwide.org
SUMMARY:CLT Module 2.1: Chiang Rai\, Thailand
DESCRIPTION:Module 2\, Part 1 \nBiblical Counseling: How Do You Do It?\n(Teaching the Process and Procedures of Biblical Counseling) \nUnless otherwise noted\, this first part of Module 2 will be held in person.  And\, Dan Rutledge and Gary Pena will be providing the instruction.
URL:https://bcmworldwide.org/event/clt-module-2-1-chiang-rai-thailand/
CATEGORIES:Biblical Counseling Ministries Worldwide,Church Leadership Training Modules,CLT,Leadership Development,Local Church Ministry,Module 2
END:VEVENT
BEGIN:VEVENT
DTSTART;VALUE=DATE:20210327
DTEND;VALUE=DATE:20210328
DTSTAMP:20260422T023450
CREATED:20210406T015830Z
LAST-MODIFIED:20210406T015830Z
UID:5452-1616803200-1616889599@bcmworldwide.org
SUMMARY:CLT Module 2a: Thailand
DESCRIPTION:Module 2a: \nBiblical Counseling: How Do You Do It?\n(Teaching the Process and Procedures of Biblical Counseling) \nThis is the first part of Module 2. \nDan Rutledge and Gary Peña will teach these sessions.
URL:https://bcmworldwide.org/event/clt-module-2a-thailand/
LOCATION:Chiang Rai\, Thailand
CATEGORIES:BCMW,Biblical Counseling Ministries Worldwide,CLT,Module 2
ATTACH;FMTTYPE=image/jpeg:https://bcmworldwide.org/wp-content/uploads/2020/06/Rutledge-Dan-Mam-300x300-72-ppi.jpg
ORGANIZER;CN="Dan Rutledge":MAILTO:heartsredeemed@gmail.com
END:VEVENT
BEGIN:VEVENT
DTSTART;VALUE=DATE:20210327
DTEND;VALUE=DATE:20210328
DTSTAMP:20260422T023450
CREATED:20210309T173110Z
LAST-MODIFIED:20210309T173110Z
UID:5390-1616803200-1616889599@bcmworldwide.org
SUMMARY:CLT Module 2a: Australia
DESCRIPTION:Module 2a \nRestoring Broken Believers to the Grace of God\n[AKA Biblical Counseling: How Do You Do It?]\n(Teaching the Process and Procedures of Biblical Counseling) \nAdrian Martinez will be teaching this event.
URL:https://bcmworldwide.org/event/clt-module-2a-australia/
LOCATION:All Nations Presbyterian Church\, 91 Tiverton Dr.\, Mulgrave\, VIC\, 3170\, Australia
CATEGORIES:Biblical Counseling Ministries Worldwide,Church Leadership Training Modules,CLT,Leadership Development,Local Church Ministry,Module 2
ORGANIZER;CN="Adrian & Jenny Martinez":MAILTO:adrian@vertical.org.au
END:VEVENT
BEGIN:VEVENT
DTSTART;VALUE=DATE:20210310
DTEND;VALUE=DATE:20210313
DTSTAMP:20260422T023450
CREATED:20200609T145751Z
LAST-MODIFIED:20200731T141950Z
UID:314-1615334400-1615593599@bcmworldwide.org
SUMMARY:CLT Module 3: Kajjansi\, Uganda
DESCRIPTION:Module 3 \nBiblical Counseling: How Do You Do It More Effectively?\n(Addressing Common Counseling Issues from God’s Perspective) \nPlease note this Module 3 is rescheduled from September 2020 due to current US and Ugandan travel restrictions.
URL:https://bcmworldwide.org/event/clt-module-3-kajjansi-uganda/
LOCATION:Kajjansi\, Uganda\, Kajjansi\, Uganda
CATEGORIES:Church Leadership Training Modules,CLT,Leadership Development
ATTACH;FMTTYPE=image/jpeg:https://bcmworldwide.org/wp-content/uploads/2020/06/Kajjansi-2019-M1-409x357-72-ppi.jpg
ORGANIZER;CN="Tom & Patty Maxham":MAILTO:tom@bcmworldwide.org
END:VEVENT
BEGIN:VEVENT
DTSTART;VALUE=DATE:20210304
DTEND;VALUE=DATE:20210307
DTSTAMP:20260422T023450
CREATED:20210124T203121Z
LAST-MODIFIED:20210129T144802Z
UID:4825-1614816000-1615075199@bcmworldwide.org
SUMMARY:CLT Module 4: Costa Rica
DESCRIPTION:Module 4 \nBiblical Counseling: How Do You Share It?\n(Developing a Local Church Biblical Counseling and Training Center) \nPlease note: this module will be held online by video conference software.
URL:https://bcmworldwide.org/event/clt-module-4-costa-rica/
LOCATION:Costa Rica\, Costa Rica
CATEGORIES:Biblical Counseling Ministries Worldwide,Church Leadership Training Modules,CLT,Module 4
ORGANIZER;CN="Joel & Krista McCutcheon":MAILTO:joelandkrista@gmail.com
END:VEVENT
BEGIN:VEVENT
DTSTART;VALUE=DATE:20210227
DTEND;VALUE=DATE:20210228
DTSTAMP:20260422T023450
CREATED:20210219T144829Z
LAST-MODIFIED:20210219T144912Z
UID:4873-1614384000-1614470399@bcmworldwide.org
SUMMARY:CLT Module 1A: Australia
DESCRIPTION:Module 1A \nIntroduction to Biblical Soul Care\n[AKA Biblical Counseling: What is it?]\n(Defining a Biblical Sufficiency-Based Model of Personal Ministry and the Nature of Personal Spiritual Growth) \nThis is the first part of Module 1. \nAdrian Martinez will be teaching these sessions.
URL:https://bcmworldwide.org/event/clt-module-1a-australia/
LOCATION:All Nations Presbyterian Church\, 91 Tiverton Dr.\, Mulgrave\, VIC\, 3170\, Australia
CATEGORIES:Biblical Counseling Ministries Worldwide,Church Leadership Training Modules,CLT,Leadership Development,Local Church Ministry,Module 1
ORGANIZER;CN="Adrian & Jenny Martinez":MAILTO:adrian@vertical.org.au
END:VEVENT
END:VCALENDAR