BEGIN:VCALENDAR
VERSION:2.0
PRODID:-//BCMW - ECPv6.15.17.1//NONSGML v1.0//EN
CALSCALE:GREGORIAN
METHOD:PUBLISH
X-WR-CALNAME:BCMW
X-ORIGINAL-URL:https://bcmworldwide.org
X-WR-CALDESC:Events for BCMW
REFRESH-INTERVAL;VALUE=DURATION:PT1H
X-Robots-Tag:noindex
X-PUBLISHED-TTL:PT1H
BEGIN:VTIMEZONE
TZID:America/New_York
BEGIN:DAYLIGHT
TZOFFSETFROM:-0500
TZOFFSETTO:-0400
TZNAME:EDT
DTSTART:20200308T070000
END:DAYLIGHT
BEGIN:STANDARD
TZOFFSETFROM:-0400
TZOFFSETTO:-0500
TZNAME:EST
DTSTART:20201101T060000
END:STANDARD
BEGIN:DAYLIGHT
TZOFFSETFROM:-0500
TZOFFSETTO:-0400
TZNAME:EDT
DTSTART:20210314T070000
END:DAYLIGHT
BEGIN:STANDARD
TZOFFSETFROM:-0400
TZOFFSETTO:-0500
TZNAME:EST
DTSTART:20211107T060000
END:STANDARD
BEGIN:DAYLIGHT
TZOFFSETFROM:-0500
TZOFFSETTO:-0400
TZNAME:EDT
DTSTART:20220313T070000
END:DAYLIGHT
BEGIN:STANDARD
TZOFFSETFROM:-0400
TZOFFSETTO:-0500
TZNAME:EST
DTSTART:20221106T060000
END:STANDARD
END:VTIMEZONE
BEGIN:VTIMEZONE
TZID:Africa/Kampala
BEGIN:STANDARD
TZOFFSETFROM:+0300
TZOFFSETTO:+0300
TZNAME:EAT
DTSTART:20180101T000000
END:STANDARD
END:VTIMEZONE
BEGIN:VTIMEZONE
TZID:America/Costa_Rica
BEGIN:STANDARD
TZOFFSETFROM:-0600
TZOFFSETTO:-0600
TZNAME:CST
DTSTART:20190101T000000
END:STANDARD
END:VTIMEZONE
BEGIN:VTIMEZONE
TZID:Asia/Bangkok
BEGIN:STANDARD
TZOFFSETFROM:+0700
TZOFFSETTO:+0700
TZNAME:+07
DTSTART:20190101T000000
END:STANDARD
END:VTIMEZONE
BEGIN:VTIMEZONE
TZID:Asia/Tokyo
BEGIN:STANDARD
TZOFFSETFROM:+0900
TZOFFSETTO:+0900
TZNAME:JST
DTSTART:20190101T000000
END:STANDARD
END:VTIMEZONE
BEGIN:VTIMEZONE
TZID:America/Mexico_City
BEGIN:DAYLIGHT
TZOFFSETFROM:-0600
TZOFFSETTO:-0500
TZNAME:CDT
DTSTART:20190407T080000
END:DAYLIGHT
BEGIN:STANDARD
TZOFFSETFROM:-0500
TZOFFSETTO:-0600
TZNAME:CST
DTSTART:20191027T070000
END:STANDARD
BEGIN:DAYLIGHT
TZOFFSETFROM:-0600
TZOFFSETTO:-0500
TZNAME:CDT
DTSTART:20200405T080000
END:DAYLIGHT
BEGIN:STANDARD
TZOFFSETFROM:-0500
TZOFFSETTO:-0600
TZNAME:CST
DTSTART:20201025T070000
END:STANDARD
BEGIN:DAYLIGHT
TZOFFSETFROM:-0600
TZOFFSETTO:-0500
TZNAME:CDT
DTSTART:20210404T080000
END:DAYLIGHT
BEGIN:STANDARD
TZOFFSETFROM:-0500
TZOFFSETTO:-0600
TZNAME:CST
DTSTART:20211031T070000
END:STANDARD
END:VTIMEZONE
BEGIN:VTIMEZONE
TZID:Europe/Kiev
BEGIN:DAYLIGHT
TZOFFSETFROM:+0200
TZOFFSETTO:+0300
TZNAME:EEST
DTSTART:20190331T010000
END:DAYLIGHT
BEGIN:STANDARD
TZOFFSETFROM:+0300
TZOFFSETTO:+0200
TZNAME:EET
DTSTART:20191027T010000
END:STANDARD
BEGIN:DAYLIGHT
TZOFFSETFROM:+0200
TZOFFSETTO:+0300
TZNAME:EEST
DTSTART:20200329T010000
END:DAYLIGHT
BEGIN:STANDARD
TZOFFSETFROM:+0300
TZOFFSETTO:+0200
TZNAME:EET
DTSTART:20201025T010000
END:STANDARD
BEGIN:DAYLIGHT
TZOFFSETFROM:+0200
TZOFFSETTO:+0300
TZNAME:EEST
DTSTART:20210328T010000
END:DAYLIGHT
BEGIN:STANDARD
TZOFFSETFROM:+0300
TZOFFSETTO:+0200
TZNAME:EET
DTSTART:20211031T010000
END:STANDARD
END:VTIMEZONE
BEGIN:VTIMEZONE
TZID:America/Belize
BEGIN:STANDARD
TZOFFSETFROM:-0600
TZOFFSETTO:-0600
TZNAME:CST
DTSTART:20190101T000000
END:STANDARD
END:VTIMEZONE
BEGIN:VTIMEZONE
TZID:Africa/Addis_Ababa
BEGIN:STANDARD
TZOFFSETFROM:+0300
TZOFFSETTO:+0300
TZNAME:EAT
DTSTART:20190101T000000
END:STANDARD
END:VTIMEZONE
BEGIN:VTIMEZONE
TZID:Asia/Novosibirsk
BEGIN:STANDARD
TZOFFSETFROM:+0700
TZOFFSETTO:+0700
TZNAME:+07
DTSTART:20190101T000000
END:STANDARD
END:VTIMEZONE
BEGIN:VTIMEZONE
TZID:Europe/Berlin
BEGIN:DAYLIGHT
TZOFFSETFROM:+0100
TZOFFSETTO:+0200
TZNAME:CEST
DTSTART:20190331T010000
END:DAYLIGHT
BEGIN:STANDARD
TZOFFSETFROM:+0200
TZOFFSETTO:+0100
TZNAME:CET
DTSTART:20191027T010000
END:STANDARD
BEGIN:DAYLIGHT
TZOFFSETFROM:+0100
TZOFFSETTO:+0200
TZNAME:CEST
DTSTART:20200329T010000
END:DAYLIGHT
BEGIN:STANDARD
TZOFFSETFROM:+0200
TZOFFSETTO:+0100
TZNAME:CET
DTSTART:20201025T010000
END:STANDARD
BEGIN:DAYLIGHT
TZOFFSETFROM:+0100
TZOFFSETTO:+0200
TZNAME:CEST
DTSTART:20210328T010000
END:DAYLIGHT
BEGIN:STANDARD
TZOFFSETFROM:+0200
TZOFFSETTO:+0100
TZNAME:CET
DTSTART:20211031T010000
END:STANDARD
END:VTIMEZONE
BEGIN:VTIMEZONE
TZID:America/Guatemala
BEGIN:STANDARD
TZOFFSETFROM:-0600
TZOFFSETTO:-0600
TZNAME:CST
DTSTART:20190101T000000
END:STANDARD
END:VTIMEZONE
BEGIN:VTIMEZONE
TZID:UTC
BEGIN:STANDARD
TZOFFSETFROM:+0000
TZOFFSETTO:+0000
TZNAME:UTC
DTSTART:20190101T000000
END:STANDARD
END:VTIMEZONE
BEGIN:VTIMEZONE
TZID:Asia/Yakutsk
BEGIN:STANDARD
TZOFFSETFROM:+0900
TZOFFSETTO:+0900
TZNAME:+09
DTSTART:20190101T000000
END:STANDARD
END:VTIMEZONE
BEGIN:VTIMEZONE
TZID:Australia/Melbourne
BEGIN:STANDARD
TZOFFSETFROM:+1100
TZOFFSETTO:+1000
TZNAME:AEST
DTSTART:20190406T160000
END:STANDARD
BEGIN:DAYLIGHT
TZOFFSETFROM:+1000
TZOFFSETTO:+1100
TZNAME:AEDT
DTSTART:20191005T160000
END:DAYLIGHT
BEGIN:STANDARD
TZOFFSETFROM:+1100
TZOFFSETTO:+1000
TZNAME:AEST
DTSTART:20200404T160000
END:STANDARD
BEGIN:DAYLIGHT
TZOFFSETFROM:+1000
TZOFFSETTO:+1100
TZNAME:AEDT
DTSTART:20201003T160000
END:DAYLIGHT
BEGIN:STANDARD
TZOFFSETFROM:+1100
TZOFFSETTO:+1000
TZNAME:AEST
DTSTART:20210403T160000
END:STANDARD
BEGIN:DAYLIGHT
TZOFFSETFROM:+1000
TZOFFSETTO:+1100
TZNAME:AEDT
DTSTART:20211002T160000
END:DAYLIGHT
END:VTIMEZONE
BEGIN:VEVENT
DTSTART;TZID=America/New_York:20210327T080000
DTEND;TZID=America/New_York:20210327T170000
DTSTAMP:20260423T031858
CREATED:20210403T152827Z
LAST-MODIFIED:20210403T153104Z
UID:5449-1616832000-1616864400@bcmworldwide.org
SUMMARY:CLT Module 2.1: Chiang Rai\, Thailand
DESCRIPTION:Module 2\, Part 1 \nBiblical Counseling: How Do You Do It?\n(Teaching the Process and Procedures of Biblical Counseling) \nUnless otherwise noted\, this first part of Module 2 will be held in person.  And\, Dan Rutledge and Gary Pena will be providing the instruction.
URL:https://bcmworldwide.org/event/clt-module-2-1-chiang-rai-thailand/
CATEGORIES:Biblical Counseling Ministries Worldwide,Church Leadership Training Modules,CLT,Leadership Development,Local Church Ministry,Module 2
END:VEVENT
BEGIN:VEVENT
DTSTART;VALUE=DATE:20210327
DTEND;VALUE=DATE:20210328
DTSTAMP:20260423T031858
CREATED:20210406T015830Z
LAST-MODIFIED:20210406T015830Z
UID:5452-1616803200-1616889599@bcmworldwide.org
SUMMARY:CLT Module 2a: Thailand
DESCRIPTION:Module 2a: \nBiblical Counseling: How Do You Do It?\n(Teaching the Process and Procedures of Biblical Counseling) \nThis is the first part of Module 2. \nDan Rutledge and Gary Peña will teach these sessions.
URL:https://bcmworldwide.org/event/clt-module-2a-thailand/
LOCATION:Chiang Rai\, Thailand
CATEGORIES:BCMW,Biblical Counseling Ministries Worldwide,CLT,Module 2
ATTACH;FMTTYPE=image/jpeg:https://bcmworldwide.org/wp-content/uploads/2020/06/Rutledge-Dan-Mam-300x300-72-ppi.jpg
ORGANIZER;CN="Dan Rutledge":MAILTO:heartsredeemed@gmail.com
END:VEVENT
BEGIN:VEVENT
DTSTART;VALUE=DATE:20210327
DTEND;VALUE=DATE:20210328
DTSTAMP:20260423T031858
CREATED:20210309T173110Z
LAST-MODIFIED:20210309T173110Z
UID:5390-1616803200-1616889599@bcmworldwide.org
SUMMARY:CLT Module 2a: Australia
DESCRIPTION:Module 2a \nRestoring Broken Believers to the Grace of God\n[AKA Biblical Counseling: How Do You Do It?]\n(Teaching the Process and Procedures of Biblical Counseling) \nAdrian Martinez will be teaching this event.
URL:https://bcmworldwide.org/event/clt-module-2a-australia/
LOCATION:All Nations Presbyterian Church\, 91 Tiverton Dr.\, Mulgrave\, VIC\, 3170\, Australia
CATEGORIES:Biblical Counseling Ministries Worldwide,Church Leadership Training Modules,CLT,Leadership Development,Local Church Ministry,Module 2
ORGANIZER;CN="Adrian & Jenny Martinez":MAILTO:adrian@vertical.org.au
END:VEVENT
BEGIN:VEVENT
DTSTART;VALUE=DATE:20210310
DTEND;VALUE=DATE:20210313
DTSTAMP:20260423T031858
CREATED:20200609T145751Z
LAST-MODIFIED:20200731T141950Z
UID:314-1615334400-1615593599@bcmworldwide.org
SUMMARY:CLT Module 3: Kajjansi\, Uganda
DESCRIPTION:Module 3 \nBiblical Counseling: How Do You Do It More Effectively?\n(Addressing Common Counseling Issues from God’s Perspective) \nPlease note this Module 3 is rescheduled from September 2020 due to current US and Ugandan travel restrictions.
URL:https://bcmworldwide.org/event/clt-module-3-kajjansi-uganda/
LOCATION:Kajjansi\, Uganda\, Kajjansi\, Uganda
CATEGORIES:Church Leadership Training Modules,CLT,Leadership Development
ATTACH;FMTTYPE=image/jpeg:https://bcmworldwide.org/wp-content/uploads/2020/06/Kajjansi-2019-M1-409x357-72-ppi.jpg
ORGANIZER;CN="Tom & Patty Maxham":MAILTO:tom@bcmworldwide.org
END:VEVENT
BEGIN:VEVENT
DTSTART;VALUE=DATE:20210304
DTEND;VALUE=DATE:20210307
DTSTAMP:20260423T031858
CREATED:20210124T203121Z
LAST-MODIFIED:20210129T144802Z
UID:4825-1614816000-1615075199@bcmworldwide.org
SUMMARY:CLT Module 4: Costa Rica
DESCRIPTION:Module 4 \nBiblical Counseling: How Do You Share It?\n(Developing a Local Church Biblical Counseling and Training Center) \nPlease note: this module will be held online by video conference software.
URL:https://bcmworldwide.org/event/clt-module-4-costa-rica/
LOCATION:Costa Rica\, Costa Rica
CATEGORIES:Biblical Counseling Ministries Worldwide,Church Leadership Training Modules,CLT,Module 4
ORGANIZER;CN="Joel & Krista McCutcheon":MAILTO:joelandkrista@gmail.com
END:VEVENT
BEGIN:VEVENT
DTSTART;VALUE=DATE:20210227
DTEND;VALUE=DATE:20210228
DTSTAMP:20260423T031858
CREATED:20210219T144829Z
LAST-MODIFIED:20210219T144912Z
UID:4873-1614384000-1614470399@bcmworldwide.org
SUMMARY:CLT Module 1A: Australia
DESCRIPTION:Module 1A \nIntroduction to Biblical Soul Care\n[AKA Biblical Counseling: What is it?]\n(Defining a Biblical Sufficiency-Based Model of Personal Ministry and the Nature of Personal Spiritual Growth) \nThis is the first part of Module 1. \nAdrian Martinez will be teaching these sessions.
URL:https://bcmworldwide.org/event/clt-module-1a-australia/
LOCATION:All Nations Presbyterian Church\, 91 Tiverton Dr.\, Mulgrave\, VIC\, 3170\, Australia
CATEGORIES:Biblical Counseling Ministries Worldwide,Church Leadership Training Modules,CLT,Leadership Development,Local Church Ministry,Module 1
ORGANIZER;CN="Adrian & Jenny Martinez":MAILTO:adrian@vertical.org.au
END:VEVENT
BEGIN:VEVENT
DTSTART;VALUE=DATE:20210130
DTEND;VALUE=DATE:20210131
DTSTAMP:20260423T031858
CREATED:20210111T235836Z
LAST-MODIFIED:20210112T000222Z
UID:4820-1611964800-1612051199@bcmworldwide.org
SUMMARY:CLT Module 1.3: Chiang Rai\, Thailand
DESCRIPTION:Module 1 \nBiblical Counseling: What it is?\n(Defining a Biblical Sufficiency-Based Model of Personal Ministry and the Nature of Personal Spiritual Growth) \n*Please note that is Part 3 of Module 1 and that the session will be held in person\, as is possible. \nDan Rutledge and Gary Peña will be providing teaching for this session of Module 1.
URL:https://bcmworldwide.org/event/clt-module-1-3-chiang-rai-thailand/
LOCATION:Chiang Rai Fellowship Baptist Church\, Chiang Rai\, 57000\, Thailand
CATEGORIES:Biblical Counseling Ministries Worldwide,Church Leadership Training Modules,CLT,Module 1
ATTACH;FMTTYPE=image/jpeg:https://bcmworldwide.org/wp-content/uploads/2020/08/Thai-BCMW-students-w-Dan-Rutledge-Vanderwiers-780x285-72-ppi.jpg
ORGANIZER;CN="Dan Rutledge":MAILTO:heartsredeemed@gmail.com
END:VEVENT
BEGIN:VEVENT
DTSTART;VALUE=DATE:20201128
DTEND;VALUE=DATE:20201206
DTSTAMP:20260423T031858
CREATED:20200620T025623Z
LAST-MODIFIED:20200731T142242Z
UID:1075-1606521600-1607212799@bcmworldwide.org
SUMMARY:CLT Module 1: Osaka\, Japan
DESCRIPTION:Church Leadership Training Module 1 \nBiblical Counseling: What it is?\n(Defining a Biblical Sufficiency-Based Model of Personal Ministry and the Nature of Personal Spiritual Growth)
URL:https://bcmworldwide.org/event/clt-module-1-osaka-japan/
LOCATION:Osaka\, Japan\, Osaka\, Japan
CATEGORIES:Biblical Counseling Ministries Worldwide,Church Leadership Training Modules,CLT,Leadership Development,Local Church Ministry,Module 1
ATTACH;FMTTYPE=image/jpeg:https://bcmworldwide.org/wp-content/uploads/2020/06/Japan-map-413x408-72-ppi.jpg
END:VEVENT
BEGIN:VEVENT
DTSTART;VALUE=DATE:20201128
DTEND;VALUE=DATE:20201206
DTSTAMP:20260423T031858
CREATED:20200620T024754Z
LAST-MODIFIED:20200731T142258Z
UID:1070-1606521600-1607212799@bcmworldwide.org
SUMMARY:CLT Module 3: Kanazawa\, Japan
DESCRIPTION:Church Leadership Training Module 3 \nBiblical Counseling: How Do You Do It More Effectively?\n(Addressing Common Counseling Issues from God’s Perspective)
URL:https://bcmworldwide.org/event/clt-module-3-kanazawa-japan/
LOCATION:Kanazawa\, Japan\, Kanazaw\, Japan
CATEGORIES:Church Leadership Training Modules,CLT,Leadership Development,Module 3
ATTACH;FMTTYPE=image/jpeg:https://bcmworldwide.org/wp-content/uploads/2020/06/Japan-map-413x408-72-ppi.jpg
END:VEVENT
BEGIN:VEVENT
DTSTART;VALUE=DATE:20201128
DTEND;VALUE=DATE:20201129
DTSTAMP:20260423T031858
CREATED:20210111T235410Z
LAST-MODIFIED:20210111T235410Z
UID:4815-1606521600-1606607999@bcmworldwide.org
SUMMARY:CLT Module 1.2: Chiang Rai\, Thailand
DESCRIPTION:Module 1 \nBiblical Counseling: What it is?\n(Defining a Biblical Sufficiency-Based Model of Personal Ministry and the Nature of Personal Spiritual Growth) \n*Please note that is Part 2 of Module 1. \nDan Rutledge and Gary Peña will be providing teaching for this session of Module 1.
URL:https://bcmworldwide.org/event/clt-module-1-2-chiang-rai-thailand/
LOCATION:Chiang Rai Fellowship Baptist Church\, Chiang Rai\, 57000\, Thailand
CATEGORIES:Biblical Counseling Ministries Worldwide,Church Leadership Training Modules,CLT,Module 1
ATTACH;FMTTYPE=image/jpeg:https://bcmworldwide.org/wp-content/uploads/2020/08/Thailand-Map-300x487-72-ppi.jpg
ORGANIZER;CN="Dan Rutledge":MAILTO:heartsredeemed@gmail.com
END:VEVENT
BEGIN:VEVENT
DTSTART;VALUE=DATE:20201031
DTEND;VALUE=DATE:20201103
DTSTAMP:20260423T031858
CREATED:20200624T190503Z
LAST-MODIFIED:20200731T142449Z
UID:1540-1604102400-1604361599@bcmworldwide.org
SUMMARY:CLT Module 1: Mexico
DESCRIPTION:Module 1: \nBiblical Counseling: What it is?\n(Defining a Biblical Sufficiency-Based Model of Personal Ministry and the Nature of Personal Spiritual Growth)
URL:https://bcmworldwide.org/event/clt-module-1-mexico/
LOCATION:Mexico\, Mexico
CATEGORIES:Biblical Counseling Ministries Worldwide,Church Leadership Training Modules,CLT,Leadership Development,Module 1
ORGANIZER;CN="Bryan Nevin":MAILTO:bryan@bcmworldwide.org
END:VEVENT
BEGIN:VEVENT
DTSTART;VALUE=DATE:20201031
DTEND;VALUE=DATE:20201101
DTSTAMP:20260423T031858
CREATED:20210111T235628Z
LAST-MODIFIED:20210114T232800Z
UID:4818-1604102400-1604188799@bcmworldwide.org
SUMMARY:CLT Module 1.1: Chiang Rai\, Thailand
DESCRIPTION:Module 1 \nBiblical Counseling: What it is?\n(Defining a Biblical Sufficiency-Based Model of Personal Ministry and the Nature of Personal Spiritual Growth) \n*Please note that this session will cover the first part of Module 1 with the subsequent sections being offered in upcoming months. \nThe training will be held in person\, unless otherwise advised.
URL:https://bcmworldwide.org/event/clt-module-1-1-chiang-rai-thailand/
LOCATION:Chiang Rai Fellowship Baptist Church\, Chiang Rai\, 57000\, Thailand
CATEGORIES:Biblical Counseling Ministries Worldwide,Church Leadership Training Modules,CLT,Module 1
ATTACH;FMTTYPE=image/jpeg:https://bcmworldwide.org/wp-content/uploads/2020/08/Thailand-Map-300x487-72-ppi.jpg
ORGANIZER;CN="Dan Rutledge":MAILTO:heartsredeemed@gmail.com
END:VEVENT
BEGIN:VEVENT
DTSTART;VALUE=DATE:20200926
DTEND;VALUE=DATE:20200927
DTSTAMP:20260423T031858
CREATED:20200809T184117Z
LAST-MODIFIED:20200909T190807Z
UID:4193-1601078400-1601164799@bcmworldwide.org
SUMMARY:CLT Session 9: Chernigiv\, Ukraine
DESCRIPTION:CLT Session 9 \nThis module training session is scheduled to be held in person at Chernigiv\, Ukraine.
URL:https://bcmworldwide.org/event/clt-session-9-chernigiv-ukraine/
LOCATION:Chernigiv\, Ukraine\, 108 Tolstogo Street\, Chernigiv\, Ukraine
CATEGORIES:Biblical Counseling Ministries Worldwide,Church Leadership Training Modules,CLT,Leadership Development,Local Church Ministry
ORGANIZER;CN="Andriy Murzin":MAILTO:andriy@bcmworldwide.org
END:VEVENT
BEGIN:VEVENT
DTSTART;VALUE=DATE:20200827
DTEND;VALUE=DATE:20200830
DTSTAMP:20260423T031858
CREATED:20200810T150215Z
LAST-MODIFIED:20200810T165102Z
UID:4298-1598486400-1598745599@bcmworldwide.org
SUMMARY:CLT Module 3: San Jose\, Costa Rica
DESCRIPTION:CLT Module 3 \nBiblical Counseling: How Do You Do It More Effectively?\n(Addressing Common Counseling Issues from God’s Perspective) \nThis event will be held online and event registration details can be found here.
URL:https://bcmworldwide.org/event/clt-module-3-san-jose-costa-rica/
LOCATION:San Jose\, Costa Rica\, San Jose\, Costa Rica
CATEGORIES:Biblical Counseling Ministries Worldwide,Church Leadership Training Modules,CLT,Leadership Development,Local Church Ministry,Module 3
ORGANIZER;CN="Joel & Krista McCutcheon":MAILTO:joelandkrista@gmail.com
END:VEVENT
BEGIN:VEVENT
DTSTART;VALUE=DATE:20200813
DTEND;VALUE=DATE:20200816
DTSTAMP:20260423T031858
CREATED:20200814T141353Z
LAST-MODIFIED:20200814T141353Z
UID:4513-1597276800-1597535999@bcmworldwide.org
SUMMARY:CLT Module 2: Lima\, Honduras (Online)
DESCRIPTION:Module 2 \nBiblical Counseling: How Do You Do It?\n(Teaching the Process and Procedures of Biblical Counseling) \nBCMW together with Pastor Ryan Hansen of Score International have organized an online event for this module.  Ryan\, Bryan Nevin\, Juan Moncayo\, Rod Huber\, and Andrew Hane will be teaching sessions.
URL:https://bcmworldwide.org/event/clt-module-2-lima-honduras-online/
LOCATION:Lima\, Honduras\, Lima\, Honduras
CATEGORIES:Biblical Counseling Ministries Worldwide,Church Leadership Training Modules,CLT,Leadership Development,Module 2
END:VEVENT
BEGIN:VEVENT
DTSTART;VALUE=DATE:20200725
DTEND;VALUE=DATE:20200726
DTSTAMP:20260423T031858
CREATED:20200809T183934Z
LAST-MODIFIED:20200809T184137Z
UID:4190-1595635200-1595721599@bcmworldwide.org
SUMMARY:CLT Session 8: Chernigiv\, Ukraine
DESCRIPTION:CLT Session 8 \nThis training session is to be held in person at Chernigiv\, Ukraine.
URL:https://bcmworldwide.org/event/clt-session-8-chernigiv-ukraine/
LOCATION:Chernigiv\, Ukraine\, 108 Tolstogo Street\, Chernigiv\, Ukraine
CATEGORIES:Biblical Counseling Ministries Worldwide,Church Leadership Training Modules,CLT,Leadership Development,Local Church Ministry
ORGANIZER;CN="Andriy Murzin":MAILTO:andriy@bcmworldwide.org
END:VEVENT
BEGIN:VEVENT
DTSTART;VALUE=DATE:20200722
DTEND;VALUE=DATE:20200725
DTSTAMP:20260423T031858
CREATED:20200624T192231Z
LAST-MODIFIED:20200731T142835Z
UID:1553-1595376000-1595635199@bcmworldwide.org
SUMMARY:CLT Module 3: Khon Kaen\, Thailand
DESCRIPTION:Module 3: \nBiblical Counseling: How Do You Do It More Effectively?\n(Addressing Common Counseling Issues from God’s Perspective)
URL:https://bcmworldwide.org/event/clt-module-3-khon-kaen-thailand/
LOCATION:Kohn Kaen\, Thailand\, Kohn Kaen\, Thailand
CATEGORIES:Biblical Counseling Ministries Worldwide,Church Leadership Training Modules,CLT,Leadership Development,Local Church Ministry,Module 3
ATTACH;FMTTYPE=image/jpeg:https://bcmworldwide.org/wp-content/uploads/2020/06/Rutledge-Dan-Mam-300x300-72-ppi.jpg
ORGANIZER;CN="Dan Rutledge":MAILTO:heartsredeemed@gmail.com
END:VEVENT
BEGIN:VEVENT
DTSTART;VALUE=DATE:20200430
DTEND;VALUE=DATE:20200502
DTSTAMP:20260423T031858
CREATED:20200624T195801Z
LAST-MODIFIED:20200731T194757Z
UID:1580-1588204800-1588377599@bcmworldwide.org
SUMMARY:CLT Module 4: Addis Adaba\, Ethiopia
DESCRIPTION:Module 3: \nBiblical Counseling: How Do You Do It More Effectively?\n(Addressing Common Counseling Issues from God’s Perspective – Topics will include Sexual Purity\, Wisdom from Proverbs\, and Conflict Resolution) \nThe module will be taught by Nic Wassell and Glenn Ripley.
URL:https://bcmworldwide.org/event/clt-module-4-addis-adaba-ethiopia/
LOCATION:Addis Ababa\, Ethiopia\, Addis Ababa\, Ethiopia
CATEGORIES:Biblical Counseling Ministries Worldwide,Church Leadership Training Modules,CLT,Leadership Development,Local Church Ministry,Module 3
END:VEVENT
BEGIN:VEVENT
DTSTART;VALUE=DATE:20200427
DTEND;VALUE=DATE:20200429
DTSTAMP:20260423T031858
CREATED:20200624T200403Z
LAST-MODIFIED:20200731T194815Z
UID:1584-1587945600-1588118399@bcmworldwide.org
SUMMARY:CLT Module 3: Harer\, Ethiopia
DESCRIPTION:Module 3: \nBiblical Counseling: How Do You Do It More Effectively?\n(Addressing Common Counseling Issues from God’s Perspective – Topics will include Sexual Purity\, Wisdom from Proverbs\, and Conflict Resolution) \nThe module will be taught by Nic Wassell and Glenn Ripley.
URL:https://bcmworldwide.org/event/clt-module-3-harer-ethiopia/
LOCATION:Harer\, Ethiopia\, Harer\, Ethiopia
CATEGORIES:Biblical Counseling Ministries Worldwide,Church Leadership Training Modules,CLT,Leadership Development,Local Church Ministry,Module 3
END:VEVENT
BEGIN:VEVENT
DTSTART;VALUE=DATE:20200423
DTEND;VALUE=DATE:20200427
DTSTAMP:20260423T031858
CREATED:20200624T200748Z
LAST-MODIFIED:20200731T194831Z
UID:1587-1587600000-1587945599@bcmworldwide.org
SUMMARY:CLT Module 1: Tyumen\, Russia
DESCRIPTION:Module 1: \nBiblical Counseling: What it is?\n(Defining a Biblical Sufficiency-Based Model of Personal Ministry and the Nature of Personal Spiritual Growth)
URL:https://bcmworldwide.org/event/clt-module-1-tyumen-russia/
LOCATION:Tyumen\, Russia\, Tyumen\, Russian Federation
CATEGORIES:Biblical Counseling Ministries Worldwide,Church Leadership Training Modules,CLT,Leadership Development,Local Church Ministry,Module 1
END:VEVENT
BEGIN:VEVENT
DTSTART;VALUE=DATE:20200423
DTEND;VALUE=DATE:20200426
DTSTAMP:20260423T031858
CREATED:20200628T200903Z
LAST-MODIFIED:20200731T194951Z
UID:1839-1587600000-1587859199@bcmworldwide.org
SUMMARY:CLT Module 1: Ingolstadt\, Germany
DESCRIPTION:Module 1: \nBiblical Counseling: What it is?\n(Defining a Biblical Sufficiency-Based Model of Personal Ministry and the Nature of Personal Spiritual Growth)
URL:https://bcmworldwide.org/event/clt-module-1-ingolstadt-germany/
LOCATION:Freie Baptistengemeinde Ingolstadt\, Friedrich-Ebert-Str 68\, Ingolstadt\, 85055\, Germany
CATEGORIES:Biblical Counseling Ministries Worldwide,Church Leadership Training Modules,CLT,Leadership Development,Local Church Ministry,Module 1
END:VEVENT
BEGIN:VEVENT
DTSTART;VALUE=DATE:20200423
DTEND;VALUE=DATE:20200426
DTSTAMP:20260423T031858
CREATED:20200628T200449Z
LAST-MODIFIED:20200731T195009Z
UID:1836-1587600000-1587859199@bcmworldwide.org
SUMMARY:CLT Module 3: Kharkiv\, Ukraine
DESCRIPTION:Module 3: \nBiblical Counseling: How Do You Do It More Effectively?\n(Addressing Common Counseling Issues from God’s Perspective)
URL:https://bcmworldwide.org/event/clt-module-3-kharkiv-ukraine/
LOCATION:Kharkiv\, Ukraine\, Kharkiv\, Ukraine
CATEGORIES:Biblical Counseling Ministries Worldwide,Church Leadership Training Modules,CLT,Leadership Development,Local Church Ministry,Module 3
ORGANIZER;CN="Andriy Murzin":MAILTO:andriy@bcmworldwide.org
END:VEVENT
BEGIN:VEVENT
DTSTART;VALUE=DATE:20200325
DTEND;VALUE=DATE:20200328
DTSTAMP:20260423T031858
CREATED:20200628T202607Z
LAST-MODIFIED:20200731T195312Z
UID:1868-1585094400-1585353599@bcmworldwide.org
SUMMARY:CLT Module 1: Guatemala
DESCRIPTION:Module 1: \nBiblical Counseling: What it is?\n(Defining a Biblical Sufficiency-Based Model of Personal Ministry and the Nature of Personal Spiritual Growth)
URL:https://bcmworldwide.org/event/clt-module-1-guatemala/
LOCATION:Guatemala\, Guatemala
CATEGORIES:Biblical Counseling Ministries Worldwide,Church Leadership Training Modules,CLT,Leadership Development,Local Church Ministry,Module 1
END:VEVENT
BEGIN:VEVENT
DTSTART;VALUE=DATE:20200316
DTEND;VALUE=DATE:20200319
DTSTAMP:20260423T031858
CREATED:20200708T060656Z
LAST-MODIFIED:20200731T195637Z
UID:3195-1584316800-1584575999@bcmworldwide.org
SUMMARY:CLT Module 2: Alajuela\, Costa Rica
DESCRIPTION:Module 2 \nBiblical Counseling: How Do You Do It?\n(Teaching the Process and Procedures of Biblical Counseling)
URL:https://bcmworldwide.org/event/clt-module-2-alajuela-costa-rica/
LOCATION:Alajuela\, Costa Rica\, Alajuela\, Costa Rica
CATEGORIES:Biblical Counseling Ministries Worldwide,Church Leadership Training Modules,CLT,Leadership Development,Local Church Ministry,Module 2
ORGANIZER;CN="Joel & Krista McCutcheon":MAILTO:joelandkrista@gmail.com
END:VEVENT
BEGIN:VEVENT
DTSTART;VALUE=DATE:20200316
DTEND;VALUE=DATE:20200319
DTSTAMP:20260423T031858
CREATED:20200628T203444Z
LAST-MODIFIED:20200731T195619Z
UID:1882-1584316800-1584575999@bcmworldwide.org
SUMMARY:CLT Module 2: San Jose de Alajuela\, Costa Rica
DESCRIPTION:Module 2: \nBiblical Counseling: How Do You Do It?\n(Teaching the Process and Procedures of Biblical Counseling)
URL:https://bcmworldwide.org/event/clt-module-2-san-jose-de-alajuela-costa-rica/
LOCATION:Methodist Retreat Center\, San Jose de Alajuela\, Costa Rica
CATEGORIES:Biblical Counseling Ministries Worldwide,Church Leadership Training Modules,CLT,Leadership Development,Local Church Ministry,Module 2
END:VEVENT
BEGIN:VEVENT
DTSTART;VALUE=DATE:20200312
DTEND;VALUE=DATE:20200315
DTSTAMP:20260423T031858
CREATED:20200704T175700Z
LAST-MODIFIED:20200731T195737Z
UID:2547-1583971200-1584230399@bcmworldwide.org
SUMMARY:CLT Module 2: San Jose\, Costa Rica
DESCRIPTION:Module 2 \nBiblical Counseling: How Do You Do It?\n(Teaching the Process and Procedures of Biblical Counseling)
URL:https://bcmworldwide.org/event/clt-module-2-san-jose-costa-rica/
LOCATION:San Jose\, Costa Rica\, San Jose\, Costa Rica
CATEGORIES:Biblical Counseling Ministries Worldwide,Church Leadership Training Modules,CLT,Leadership Development,Local Church Ministry,Module 2
ORGANIZER;CN="Joel & Krista McCutcheon":MAILTO:joelandkrista@gmail.com
END:VEVENT
BEGIN:VEVENT
DTSTART;VALUE=DATE:20200308
DTEND;VALUE=DATE:20200321
DTSTAMP:20260423T031858
CREATED:20200628T203720Z
LAST-MODIFIED:20200731T195657Z
UID:1885-1583625600-1584748799@bcmworldwide.org
SUMMARY:CLT Module 3: Yakutsk\, Russia
DESCRIPTION:Module 3: \nBiblical Counseling: How Do You Do It More Effectively?\n(Addressing Common Counseling Issues from God’s Perspective)
URL:https://bcmworldwide.org/event/clt-module-3-yakutsk-russia/
LOCATION:Yakutsk\, Russia\, Yakutsk\, Russian Federation
CATEGORIES:Biblical Counseling Ministries Worldwide,Church Leadership Training Modules,CLT,Leadership Development,Local Church Ministry,Module 3
END:VEVENT
BEGIN:VEVENT
DTSTART;VALUE=DATE:20200307
DTEND;VALUE=DATE:20200308
DTSTAMP:20260423T031858
CREATED:20200628T204126Z
LAST-MODIFIED:20200731T195819Z
UID:1888-1583539200-1583625599@bcmworldwide.org
SUMMARY:CLT Module 3: Melbourne\, Australia
DESCRIPTION:Module 3: \nBiblical Counseling: How Do You Do It More Effectively?\n(Addressing Common Counseling Issues from God’s Perspective)
URL:https://bcmworldwide.org/event/clt-module-3-melbourne-australia/
LOCATION:Melbourne\, Australia\, Melbourne\, Australia
CATEGORIES:Biblical Counseling Ministries Worldwide,Church Leadership Training Modules,CLT,Leadership Development,Local Church Ministry
ATTACH;FMTTYPE=image/jpeg:https://bcmworldwide.org/wp-content/uploads/2013/05/BSC-Australia-170x197-72-ppi.jpg
ORGANIZER;CN="Adrian & Jenny Martinez":MAILTO:adrian@vertical.org.au
END:VEVENT
BEGIN:VEVENT
DTSTART;VALUE=DATE:20200208
DTEND;VALUE=DATE:20200209
DTSTAMP:20260423T031858
CREATED:20200708T060916Z
LAST-MODIFIED:20200731T195936Z
UID:3198-1581120000-1581206399@bcmworldwide.org
SUMMARY:CLT Module 1 Review: San Jose\, Costa Rica
DESCRIPTION:Review of Module 1 \nBiblical Counseling: What it is?\n(Defining a Biblical Sufficiency-Based Model of Personal Ministry and the Nature of Personal Spiritual Growth)
URL:https://bcmworldwide.org/event/clt-module-1-review-san-jose-costa-rica/
LOCATION:San Jose\, Costa Rica\, San Jose\, Costa Rica
CATEGORIES:Biblical Counseling Ministries Worldwide,Church Leadership Training Modules,CLT,Leadership Development,Local Church Ministry,Module 1
ORGANIZER;CN="Joel & Krista McCutcheon":MAILTO:joelandkrista@gmail.com
END:VEVENT
BEGIN:VEVENT
DTSTART;VALUE=DATE:20191204
DTEND;VALUE=DATE:20191207
DTSTAMP:20260423T031858
CREATED:20200628T210045Z
LAST-MODIFIED:20200731T200200Z
UID:1905-1575417600-1575676799@bcmworldwide.org
SUMMARY:CLT Module 2: Kajjansi\, Uganda
DESCRIPTION:Module 2: \nBiblical Counseling: How Do You Do It?\n(Teaching the Process and Procedures of Biblical Counseling)
URL:https://bcmworldwide.org/event/clt-module-2-kajjansi-uganda/
LOCATION:Kajjansi\, Uganda\, Kajjansi\, Uganda
CATEGORIES:Biblical Counseling Ministries Worldwide,Church Leadership Training Modules,CLT,Leadership Development,Local Church Ministry,Module 2
ATTACH;FMTTYPE=image/jpeg:https://bcmworldwide.org/wp-content/uploads/2020/06/Kajjansi-2019-M1-409x357-72-ppi.jpg
ORGANIZER;CN="Tom & Patty Maxham":MAILTO:tom@bcmworldwide.org
END:VEVENT
END:VCALENDAR