BEGIN:VCALENDAR
VERSION:2.0
PRODID:-//BCMW - ECPv6.15.17.1//NONSGML v1.0//EN
CALSCALE:GREGORIAN
METHOD:PUBLISH
X-WR-CALNAME:BCMW
X-ORIGINAL-URL:https://bcmworldwide.org
X-WR-CALDESC:Events for BCMW
REFRESH-INTERVAL;VALUE=DURATION:PT1H
X-Robots-Tag:noindex
X-PUBLISHED-TTL:PT1H
BEGIN:VTIMEZONE
TZID:America/New_York
BEGIN:DAYLIGHT
TZOFFSETFROM:-0500
TZOFFSETTO:-0400
TZNAME:EDT
DTSTART:20200308T070000
END:DAYLIGHT
BEGIN:STANDARD
TZOFFSETFROM:-0400
TZOFFSETTO:-0500
TZNAME:EST
DTSTART:20201101T060000
END:STANDARD
BEGIN:DAYLIGHT
TZOFFSETFROM:-0500
TZOFFSETTO:-0400
TZNAME:EDT
DTSTART:20210314T070000
END:DAYLIGHT
BEGIN:STANDARD
TZOFFSETFROM:-0400
TZOFFSETTO:-0500
TZNAME:EST
DTSTART:20211107T060000
END:STANDARD
BEGIN:DAYLIGHT
TZOFFSETFROM:-0500
TZOFFSETTO:-0400
TZNAME:EDT
DTSTART:20220313T070000
END:DAYLIGHT
BEGIN:STANDARD
TZOFFSETFROM:-0400
TZOFFSETTO:-0500
TZNAME:EST
DTSTART:20221106T060000
END:STANDARD
BEGIN:DAYLIGHT
TZOFFSETFROM:-0500
TZOFFSETTO:-0400
TZNAME:EDT
DTSTART:20230312T070000
END:DAYLIGHT
BEGIN:STANDARD
TZOFFSETFROM:-0400
TZOFFSETTO:-0500
TZNAME:EST
DTSTART:20231105T060000
END:STANDARD
BEGIN:DAYLIGHT
TZOFFSETFROM:-0500
TZOFFSETTO:-0400
TZNAME:EDT
DTSTART:20240310T070000
END:DAYLIGHT
BEGIN:STANDARD
TZOFFSETFROM:-0400
TZOFFSETTO:-0500
TZNAME:EST
DTSTART:20241103T060000
END:STANDARD
BEGIN:DAYLIGHT
TZOFFSETFROM:-0500
TZOFFSETTO:-0400
TZNAME:EDT
DTSTART:20250309T070000
END:DAYLIGHT
BEGIN:STANDARD
TZOFFSETFROM:-0400
TZOFFSETTO:-0500
TZNAME:EST
DTSTART:20251102T060000
END:STANDARD
BEGIN:DAYLIGHT
TZOFFSETFROM:-0500
TZOFFSETTO:-0400
TZNAME:EDT
DTSTART:20260308T070000
END:DAYLIGHT
BEGIN:STANDARD
TZOFFSETFROM:-0400
TZOFFSETTO:-0500
TZNAME:EST
DTSTART:20261101T060000
END:STANDARD
END:VTIMEZONE
BEGIN:VTIMEZONE
TZID:Asia/Tokyo
BEGIN:STANDARD
TZOFFSETFROM:+0900
TZOFFSETTO:+0900
TZNAME:JST
DTSTART:20190101T000000
END:STANDARD
END:VTIMEZONE
BEGIN:VTIMEZONE
TZID:America/Mexico_City
BEGIN:DAYLIGHT
TZOFFSETFROM:-0600
TZOFFSETTO:-0500
TZNAME:CDT
DTSTART:20190407T080000
END:DAYLIGHT
BEGIN:STANDARD
TZOFFSETFROM:-0500
TZOFFSETTO:-0600
TZNAME:CST
DTSTART:20191027T070000
END:STANDARD
BEGIN:DAYLIGHT
TZOFFSETFROM:-0600
TZOFFSETTO:-0500
TZNAME:CDT
DTSTART:20200405T080000
END:DAYLIGHT
BEGIN:STANDARD
TZOFFSETFROM:-0500
TZOFFSETTO:-0600
TZNAME:CST
DTSTART:20201025T070000
END:STANDARD
BEGIN:DAYLIGHT
TZOFFSETFROM:-0600
TZOFFSETTO:-0500
TZNAME:CDT
DTSTART:20210404T080000
END:DAYLIGHT
BEGIN:STANDARD
TZOFFSETFROM:-0500
TZOFFSETTO:-0600
TZNAME:CST
DTSTART:20211031T070000
END:STANDARD
END:VTIMEZONE
BEGIN:VEVENT
DTSTART;TZID=America/New_York:20250928T000000
DTEND;TZID=America/New_York:20250928T235959
DTSTAMP:20260424T101614
CREATED:20250908T020459Z
LAST-MODIFIED:20250908T020506Z
UID:9769-1759017600-1759103999@bcmworldwide.org
SUMMARY:Intro to BC Seminar: Oaxaca\, Mexico
DESCRIPTION:BCMW Coordinator\, Bryan Nevin will lead a one-day seminar introducing Biblical counseling by seeking to answer the question: “Biblical Counseling: What Is It?” Topics will include: Who is BCMW?\, training information\, Why do we counsel?\, What is biblical counseling?\, basic questions and answers about Biblical Counseling\, Q&A time.
URL:https://bcmworldwide.org/event/intro-to-bc-seminar-oaxaca-mexico/
LOCATION:Iglesia Calvary Chapel\, Oaxaca\, Mexico\, Oaxaca\, Mexico
CATEGORIES:Biblical Counseling Seminar,Intro to Biblical Counseling Seminar,Leadership Development,Local Church Ministry
ATTACH;FMTTYPE=image/jpeg:https://bcmworldwide.org/wp-content/uploads/2024/10/Mexico-flag.jpg
ORGANIZER;CN="Bryan Nevin":MAILTO:bryan@bcmworldwide.org
END:VEVENT
BEGIN:VEVENT
DTSTART;TZID=America/New_York:20230818T000000
DTEND;TZID=America/New_York:20230825T235959
DTSTAMP:20260424T101614
CREATED:20230802T232935Z
LAST-MODIFIED:20230802T232936Z
UID:8446-1692316800-1693007999@bcmworldwide.org
SUMMARY:Intro to BC: Warsaw\, Poland
DESCRIPTION:BCMW Coordinator\, Jeff and Suzanne Jackson\, will lead several one-hour sessions introducing biblical counseling for pastors and others in Warsaw\, Poland.
URL:https://bcmworldwide.org/event/intro-to-bc-warsaw-poland/
LOCATION:Warsaw\, Poland\, Warsaw\, Poland
CATEGORIES:Biblical Counseling Ministries Worldwide,Intro to Biblical Counseling Seminar,Local Church Ministry
ATTACH;FMTTYPE=image/png:https://bcmworldwide.org/wp-content/uploads/2022/12/jeffjackson.png
END:VEVENT
BEGIN:VEVENT
DTSTART;VALUE=DATE:20220412
DTEND;VALUE=DATE:20220419
DTSTAMP:20260424T101614
CREATED:20220320T200323Z
LAST-MODIFIED:20220413T141318Z
UID:6505-1649721600-1650326399@bcmworldwide.org
SUMMARY:Biblical Counseling Meetings: Arctic Circle\, Russia
DESCRIPTION:Stepan Pavlyuk will be leading a seminar in Norilsk\, Russia\, to introduce local pastors and elders and church members to biblical counseling church ministry\, and particularly “How do People Change?”. \nHe will also be meeting with pastors and other believers in Dudinka and other cities beyond the Arctic Circle on Peninsula Taimyr.
URL:https://bcmworldwide.org/event/what-is-biblical-counseling-norilsk-russia/
LOCATION:Norilsk\, Russia\, Norilsk\, Russian Federation
CATEGORIES:BCMW,Biblical Counseling Ministries Worldwide,Intro to Biblical Counseling Seminar,Leadership Development,Local Church Ministry
ATTACH;FMTTYPE=image/jpeg:https://bcmworldwide.org/wp-content/uploads/2020/08/Pavlyuk-Stepan-Murzin-Andrei-450x164-72-ppi.jpg
END:VEVENT
BEGIN:VEVENT
DTSTART;VALUE=DATE:20210728
DTEND;VALUE=DATE:20210729
DTSTAMP:20260424T101614
CREATED:20210427T040202Z
LAST-MODIFIED:20210709T004522Z
UID:5504-1627430400-1627516799@bcmworldwide.org
SUMMARY:POSTPONED: Introduction to Biblical Counseling Seminar - Liberia
DESCRIPTION:POSTPONED:  Please check back soon for details regarding when this event will be rescheduled. \nIntroduction to Biblical Counseling Seminar \nThis seminar is a basic introduction to Biblical counseling and seeks to answer the question: “Biblical Counseling: What Is It?” Topics will include Biblical counseling in historical context\, basic questions and answers about Biblical counseling\, and what exactly is “Biblical counseling.” \nThis module will be taught by Gary Meeks\, Andrew Rogers\, and Don Roy.
URL:https://bcmworldwide.org/event/introduction-to-biblical-counseling-seminar-liberia/
LOCATION:Monrovia\, Liberia\, Liberia
CATEGORIES:Biblical Counseling Ministries Worldwide,Biblical Counseling One Day Seminar,Intro to Biblical Counseling Seminar,Local Church Ministry
ATTACH;FMTTYPE=image/png:https://bcmworldwide.org/wp-content/uploads/2020/08/BCMW-w-words-blue-240x200-1.png
END:VEVENT
BEGIN:VEVENT
DTSTART;VALUE=DATE:20210725
DTEND;VALUE=DATE:20210726
DTSTAMP:20260424T101614
CREATED:20210427T011339Z
LAST-MODIFIED:20210709T004314Z
UID:5500-1627171200-1627257599@bcmworldwide.org
SUMMARY:POSTPONED - Intro to Biblical Counseling Seminar: Kenya
DESCRIPTION:POSTPONED:  Please check back soon for details regarding when this event will be rescheduled. \nIntroduction to Biblical Counseling Seminar \nThis seminar is a basic introduction to Biblical counseling and seeks to answer the question: “Biblical Counseling: What Is It?” Topics will include Biblical counseling in historical context\, basic questions and answers about Biblical counseling\, and what exactly is “Biblical counseling.” \nThis module will be taught by Gary Meeks\, Andrew Rogers\, and Don Roy.
URL:https://bcmworldwide.org/event/introduction-to-biblical-counseling-seminar-kenya/
LOCATION:Nairobi and Nakuru\, Kenya
CATEGORIES:Biblical Counseling Ministries Worldwide,Biblical Counseling One Day Seminar,Intro to Biblical Counseling Seminar,Local Church Ministry
ATTACH;FMTTYPE=image/png:https://bcmworldwide.org/wp-content/uploads/2020/08/BCMW-w-words-blue-240x200-1.png
END:VEVENT
BEGIN:VEVENT
DTSTART;VALUE=DATE:20210722
DTEND;VALUE=DATE:20210723
DTSTAMP:20260424T101614
CREATED:20210427T040745Z
LAST-MODIFIED:20210709T003952Z
UID:5509-1626912000-1626998399@bcmworldwide.org
SUMMARY:POSTPONED - Intro to Biblical Counseling Seminar: Zimbabwe
DESCRIPTION:POSTPONED – Please check back soon for updates regarding when this seminar will be rescheduled. \nIntroduction to Biblical Counseling \nThis seminar offers a general introduction to biblical sufficiency-based personal ministry. The biblical basis for biblical counseling will be examined\, biblical counseling will be defined\, and the goal of biblical counseling will be explained. Biblical counseling will be distinguished from other counseling frameworks and theories. The essential qualities of an effective soul care provider will be detailed. \nGary Meeks\, Andrew Rogers\, and Don Roy will be teaching this seminar.
URL:https://bcmworldwide.org/event/introduction-to-biblical-counseling-seminar-zimbabwe/
LOCATION:Harare\, ZImbabwe\, Zimbabwe
CATEGORIES:Biblical Counseling Ministries Worldwide,Biblical Counseling One Day Seminar,Intro to Biblical Counseling Seminar,Leadership Development
ATTACH;FMTTYPE=image/png:https://bcmworldwide.org/wp-content/uploads/2020/08/BCMW-w-words-blue-240x200-1.png
END:VEVENT
BEGIN:VEVENT
DTSTART;TZID=Asia/Tokyo:20200626T193000
DTEND;TZID=Asia/Tokyo:20200627T180000
DTSTAMP:20260424T101614
CREATED:20200616T010727Z
LAST-MODIFIED:20200731T144422Z
UID:691-1593199800-1593280800@bcmworldwide.org
SUMMARY:Summer Webinar: Japan
DESCRIPTION:BCMW Japan Summer Webinar\n\n\nTroubled Lives and The Sufficiency of Christ and His Word\n\nto Provide Help and Hope\nTranslation into Japanese Provided \n[Click here for this webinar info in Japanese ] \n\n  \n\n\n\nWhat can you do when a Christian friend is struggling? \nHello friends\, my name is Dr. Joe Miller from BCM Worldwide. \nI want to extend to you an invitation to our Japan Summer Biblical Counseling Webinar. The title is: Troubled Lives and The Sufficiency of Christ and His Word to Provide Help and Hope. \n  \nThis LIVE webinar will answer some critical questions that our society is facing today:    \n\nWhat do the Scriptures have to say about various  aspects and issues of life?\nWhat instruction\, encouragement\, help and hope do the Scriptures provide?\nHow should Christians and the local church leaders think about prevalent issues occurring in our society today?\n\nThis webinar includes lectures from highly credentialed leaders in the international biblical counseling movement.  This webinar is available to everyone who is interested in how the Scriptures and the local church can be a source of help and hope for those in need both inside and outside your church. \nThis is a two-day event\, with two sessions on Friday\, June 26 and four sessions on Saturday\, June 27.  You can attend any session you would like.  You do not have to attend all the sessions. \nThe Friday program is scheduled for 7:30 to 9:30pm (JST). Our Saturday sessions will be held from 1pm to 6:00pm (JST). \nTime Zone Converter Link: https://www.timeanddate.com/worldclock/converter.html \nAnd here is the best news: The cost of this Webinar is FREE. The webinar materials that you will receive are also free. But there is a limit to the number of participants we can accommodate\, so you will want to make your reservation soon. \n  \nDates & Times: \n\nJune 26\, Friday Evening: 2-Sessions (Japan Time: 7:30-9:30pm)\nJune 27\, Saturday Afternoon: 5 Sessions (Japan Time 1pm-6pm)\n\n[At the end of each session there will be time for Q&A] \n  \n7 Sessions Include (***English & Japanese audio channels): \n\nWhat Is Biblical Counseling? – Are the Scriptures and is the local church sufficient to address difficult issues of life faced by individuals\, marriages\, and families?  |  セッション１：聖書に基づいたカウンセリングとは何か?　―　聖書と教会は、一人ひとりが抱えている問題や、夫婦や家族が直面している難しい状況を助けるのに充分か？  – Dr. Wayne Vanderwier (see bio)\nIdols of the Heart – Part 1: Pornography  |  セッション２：心の偶像-その１：ポルノや性的な罪 – Bill Hines (see bio)\nIdols of the Heart – Part 2: Homosexuality  |  セッション３：心の偶像-その２：同性愛 – Don Roy (see bio)\nSingleness  |  セッション４：独身 – Betty-Anne Van Rees (see bio)\nFear & Anxiety – Part 1: Covid-19  |  セッション５：恐れと不安-その１：新型コロナウイルス – Andrew Rogers (see bio)\nFear & Anxiety – Part 2: Hikikomori  |  セッション６：恐れと不安-その２：ひきこもり – Erisa Funada (see bio)\nFinal Q& A and Concluding Review & Challenge  |  セッション７：質疑応答、結論、これからの課題 – All available teachers\n\n  \nPlease click here to register. \nWe look forward to seeing you at the webinar! \n\n\n\n  \n\n\n\n\n\nBCMW Japan Summer Webinar Organizers:\n  \n\n\n\n\n\n\n\n\n\n\n\n\n\n\nDr. Joe Miller\, BCMW Japan National Coordinator\nM.Div. from The Master’s Seminary in Los Angeles\, CA. Doctorate in Biblical Counseling from the Southern Baptist Theological Seminary\, in Louisville\, KY. Association of Certified Biblical Counselors (ACBC) certification in 2015. Certified with International Association of Biblical Counselors in 2016.\n\n\n\n\n\n\n\n  \n\n\n\n\n\n\n\n\n\n\nTakayuki Hayashi\, Uchinada Bible Church Pastor\n\n\n\n\n\n\nCoordinator in Japan for the BCMW Japan Summer Webinar \n林孝幸 \n\nM.A. in Pastoral Studies from Bob Jones Seminar in Greenville\, SC. Currently a Pastor at Uchinada Bible Church in Ishikawa\, Japan\, ministering with his wife\, Sarah.2010 年アメリカ、ボブジョーンズ大学院神学部牧師学科卒業。幼少期、日本とアメリカ間を父親の仕事の関係で行き来し、2005 年ボブジョーンズ大学入学。大学二年目に、イエス・キリストを自分の救い主として信じる。2009 年ボブジョーンズ大学専攻国際経済学、第二専攻中国語終了後、2009 年神学校入学。卒業後、2011 年からカナダのブリティッシュコロンビア州・ビクトリー教会副牧師。2015 年から半年間内灘聖書教会研修牧師。2016 年カナダのブリティッシュコロンビア州・ブリッジ教会説教伝道ミッション牧師。2018年から石川県の内灘聖書教会牧師。\n\n\n\n\n\n\n  \n\n\n\n\n\n\n\nBCMW Japan Summer Webinar Teachers:\n  \n\n\n\n\n\n\n\n\n\nErisa Funada\, M.A.B.C.\n\n\n\n\n\n\nErisa is teaching: \nSession 6: Fear & Anxiety – Part 2: Hikikomori\nポール・デービッド・トリップ著者の「互いに助け合うために」の翻訳者\n \nAbout Erisa:\n舟田恵利紗\nBiblical Counseling（聖書的カウンセリング）専攻で、米国ウィスコンシン州マラナサ大学にて学士号を、カリフォルニア州マスターズ大学大学院にて修士号を取得。米国ACBC（Association of Certified Biblical Counselors）認定カウンセラー。2017年にChrist Bible Institute Pressより出版された、「互いに助け合うために」(Instruments in the Redeemer’s Hands)の翻訳者。現在、2歳児の子育てに奮闘中。 \nB.A. in biblical counseling from Maranatha Baptist University\, WI; M.A. in biblical counseling from the Master’s University\, CA. A certified counselor with ACBC (Association of Certified Biblical Counselors). In 2017\, she translated “Instruments in the Redeemer’s Hands” into Japanese\, published by Christ Bible Institute Press. She is a learning mother in raising a two-year-old. \n\n\n\n\n\n\n \n  \n\n\n\n\n\nBill Hines\, D. Min.\, President Covenant Ministries\, Inc.\n\n\n\n\n\n\nBill is teaching: \nSession 2: Idols of the Heart – Part 1: Pornography\n \nAbout Bill:\nB.A. Political Science; M.A. Counseling; M.A. Religion; D.Min. Counseling) is the President of Covenant Ministries\, Inc.\, a biblical counseling\, education and Christian media ministry in Ft. Worth\, Texas. \nAuthor of\, Leaving Yesterday Behind: A Victim No More; Homework CD for Biblical Counseling; Curing the Heart: A Model for Biblical Counseling (with Dr. Howard A. Eyrich); The Pursuit of Perfection (with Mark Shaw) and the forthcoming\, Paul the Counselor (Mark Shaw\, Bill Hines contributing editors). \nA frequent speaker on topics concerning counseling and the Christian life\, Bill has conducted seminars and training in the U.S. and abroad. Bill has assisted Dr. Randall Price with tours to Israel and Jordan including a dig at Qumran\, the site of numerous archaeological finds such as the Dead Sea Scrolls. In addition to his work with Covenant Ministries Bill has served as a Counselor and Trainer of Counselors with Christ Chapel Bible Church in Ft. Worth\, TX and serves as adjunct faculty and Dean Emeritus for Master’s International Divinity School. \nAn ordained minister since 1985 Bill is on the Advisory Board and Member of the American Academy of Biblical Counselors and is a long time member of The Association of Certified Biblical Counselors (formerly NANC). \n\n\n\n\n\n\n \n  \n\n\n\n\n\nDr. Andrew Rogers\, BCMW Executive Director\n\n\n\n\n\n\nAndrew is teaching: \nSession 5: Fear & Anxiety – Part 1: Covid-19\n \nAbout Andrew:\nFrequent ministry with BCMW as both an Associate Teacher in our Church Leadership Training programs; Caspian Region\, Jordan\, and Utah\, and as an Adjunct Faculty member in our Graduate Academic Degree programs; Egypt\, Jordan\, Lebanon\, Ukraine\, and the Philippines.\nWe are currently providing this training in Egypt\, Jordan\, and Lebanon\, through the National Theological College and Graduate School of Lexington\, North Carolina; in Ukraine through the Kyiv Theological Seminary\, Kyiv\, Ukraine; in the Philippines through Doane Baptist Seminary\, Iloilo\, Philippines\, and through the Presbyterian Theological Seminary\, Cavite\, Philippines.\nWe are very excited to see how the Lord is using this training to further strengthen the pastors and Christian leaders in these and surrounding countries. \n\n\n\n\n\n\n \n  \n\n\n\n\n\nDr. Don Roy\, BCMW Madagascar Coordinator & Missions Administrator\n\n\n\n\n\nDon is teaching:\nSession 3: Idols of the Heart – Part 2: Homosexuality\n \nAbout Don:\nIn the past few years\, we’ve been able to teach the entire Church Leadership Training (CLT) course in churches in the Netherlands\, France\, Germany and to help start a CLT in Italy. We’re now in the process of a major shift – away from Europe\, where BCMW now has other wonderful country coordinators – and to Madagascar.\nIn the work as Missions Administrator\, God has allowed my passion for organization to aid the ministry of BCM Worldwide through the collation of presentation materials and managing the calendar.\n\n\n\n\n\n \n  \n\n\n\n\n\nBetty-Anne Van Rees\, M.A.B.C.\n\n\n\n\n\n\nBetty Anne is teaching: \nSession 4: Singleness\n\n\n\n \n  \n\n\nAbout Betty Anne:\nBetty-Anne serves the local church in discipleship roles that include speaking\, teaching\, mentoring\, counselling\, and training biblical counselors. Fueled by her passion to see the Canadian church convinced and equipped to care for souls through the living Word (both Incarnate and inspired)\, Betty-Anne has worked together with a team of like-minded men and women to launch the Canadian Biblical Counseling Coalition (Canadian BCC). The roles closest to Betty-Anne’s heart are mom to Laura\, Joshua and his wife Jenni\, and grandma to Emma and Ethan.\n\n\n\n\n\n \n  \n\n\n\n\n\nDr. Wayne Vanderwier\, BCMW Director at Large\n\n\n\n\n\n\nWayne is teaching: \nSession 1: What Is Biblical Counseling? – Are the Scriptures and is the local church sufficient to address difficult issues of life faced by individuals\, marriages\, and families?\n \nAbout Wayne:\nWayne and Susie founded the ministry of BCM Worldwide in 2006.\nWayne served as Executive Director of BCMW from its inception until October of 2019. His new role\, Director-at-Large\, includes building Biblically healthy relationships with churches and theological schools\, completing the BCMW strategic objective in nations around the world\, and training both BCMW missionaries and national pastors. He also serves as the International Ministry Team Leader on the Council Board of the Biblical Counseling Coalition. He is Dean of the Master in Biblical Counseling program at the National Theological College and Graduate School and Director of the Master of Arts in Biblical Counseling program at Kyiv Theological Seminary in Kiev\, Ukraine and Doane Baptist Seminary in Iloilo\, Philippines.\nSince the inception of BCMW\, Wayne and Susie have traveled to thirty-nine countries representing BCMW.
URL:https://bcmworldwide.org/event/summer-webinar-japan/
LOCATION:Japan\, Japan
CATEGORIES:BCMW Webinar,Intro to Biblical Counseling Seminar,Leadership Development
ATTACH;FMTTYPE=image/jpeg:https://bcmworldwide.org/wp-content/uploads/2020/07/Miller-Joe-Tara-300x300-72-ppi.jpg
END:VEVENT
BEGIN:VEVENT
DTSTART;VALUE=DATE:20200314
DTEND;VALUE=DATE:20200315
DTSTAMP:20260424T101614
CREATED:20200708T061307Z
LAST-MODIFIED:20200731T195717Z
UID:3200-1584144000-1584230399@bcmworldwide.org
SUMMARY:Intro to Biblical Counseling Seminar: Coacalco\, Mexico
DESCRIPTION:ntroduction to Biblical Counseling One Day Seminar \nThis seminar seeks to answer the question: “Biblical Counseling: What is it?” \nIncludes sessions discussing Biblical Counseling in Historical Context\, Basic Questions and Answers About Biblical Counseling\, and What is “Biblical Counseling”
URL:https://bcmworldwide.org/event/intro-to-biblical-counseling-seminar-coacalco-mexico/
LOCATION:Coacalco\, Mexico\, Coacalco\, Mexico
CATEGORIES:Biblical Counseling Ministries Worldwide,Biblical Counseling One Day Seminar,Intro to Biblical Counseling Seminar,Leadership Development,Local Church Ministry
ORGANIZER;CN="Bryan Nevin":MAILTO:bryan@bcmworldwide.org
END:VEVENT
END:VCALENDAR