BEGIN:VCALENDAR
VERSION:2.0
PRODID:-//BCMW - ECPv6.15.17.1//NONSGML v1.0//EN
CALSCALE:GREGORIAN
METHOD:PUBLISH
X-ORIGINAL-URL:https://bcmworldwide.org
X-WR-CALDESC:Events for BCMW
REFRESH-INTERVAL;VALUE=DURATION:PT1H
X-Robots-Tag:noindex
X-PUBLISHED-TTL:PT1H
BEGIN:VTIMEZONE
TZID:America/New_York
BEGIN:DAYLIGHT
TZOFFSETFROM:-0500
TZOFFSETTO:-0400
TZNAME:EDT
DTSTART:20240310T070000
END:DAYLIGHT
BEGIN:STANDARD
TZOFFSETFROM:-0400
TZOFFSETTO:-0500
TZNAME:EST
DTSTART:20241103T060000
END:STANDARD
BEGIN:DAYLIGHT
TZOFFSETFROM:-0500
TZOFFSETTO:-0400
TZNAME:EDT
DTSTART:20250309T070000
END:DAYLIGHT
BEGIN:STANDARD
TZOFFSETFROM:-0400
TZOFFSETTO:-0500
TZNAME:EST
DTSTART:20251102T060000
END:STANDARD
BEGIN:DAYLIGHT
TZOFFSETFROM:-0500
TZOFFSETTO:-0400
TZNAME:EDT
DTSTART:20260308T070000
END:DAYLIGHT
BEGIN:STANDARD
TZOFFSETFROM:-0400
TZOFFSETTO:-0500
TZNAME:EST
DTSTART:20261101T060000
END:STANDARD
END:VTIMEZONE
BEGIN:VEVENT
DTSTART;TZID=America/New_York:20250915T000000
DTEND;TZID=America/New_York:20250919T235959
DTSTAMP:20260423T032522
CREATED:20250901T214257Z
LAST-MODIFIED:20250901T214300Z
UID:9743-1757894400-1758326399@bcmworldwide.org
SUMMARY:KTS MABC:  Counseling Observations
DESCRIPTION:Counseling ObservationsStudents will learn to use proficiently diagrams taught in previous classes to analyze case studies\, identify key methodologies demonstrated in observing role plays or videos\, and proficiently use the I’s methodology to evaluate observed counseling.Kyiv Theological Seminary will encourage third-year MABC students in their counseling competence as they apply what they are learning.
URL:https://bcmworldwide.org/event/kts-mabc-counseling-observations/
LOCATION:Kyiv Theological Seminary\, 75 Gorlovskaya Street\, Kyiv\, 02091\, Ukraine
CATEGORIES:KTS BA,Leadership Development,Local Church Ministry
ATTACH;FMTTYPE=image/jpeg:https://bcmworldwide.org/wp-content/uploads/2020/07/KTS-Logo-300x197-72-ppi.jpg
ORGANIZER;CN="Andriy Murzin":MAILTO:andriy@bcmworldwide.org
END:VEVENT
END:VCALENDAR