BEGIN:VCALENDAR
VERSION:2.0
PRODID:-//BCMW - ECPv6.15.17.1//NONSGML v1.0//EN
CALSCALE:GREGORIAN
METHOD:PUBLISH
X-WR-CALNAME:BCMW
X-ORIGINAL-URL:https://bcmworldwide.org
X-WR-CALDESC:Events for BCMW
REFRESH-INTERVAL;VALUE=DURATION:PT1H
X-Robots-Tag:noindex
X-PUBLISHED-TTL:PT1H
BEGIN:VTIMEZONE
TZID:America/New_York
BEGIN:DAYLIGHT
TZOFFSETFROM:-0500
TZOFFSETTO:-0400
TZNAME:EDT
DTSTART:20230312T070000
END:DAYLIGHT
BEGIN:STANDARD
TZOFFSETFROM:-0400
TZOFFSETTO:-0500
TZNAME:EST
DTSTART:20231105T060000
END:STANDARD
BEGIN:DAYLIGHT
TZOFFSETFROM:-0500
TZOFFSETTO:-0400
TZNAME:EDT
DTSTART:20240310T070000
END:DAYLIGHT
BEGIN:STANDARD
TZOFFSETFROM:-0400
TZOFFSETTO:-0500
TZNAME:EST
DTSTART:20241103T060000
END:STANDARD
BEGIN:DAYLIGHT
TZOFFSETFROM:-0500
TZOFFSETTO:-0400
TZNAME:EDT
DTSTART:20250309T070000
END:DAYLIGHT
BEGIN:STANDARD
TZOFFSETFROM:-0400
TZOFFSETTO:-0500
TZNAME:EST
DTSTART:20251102T060000
END:STANDARD
BEGIN:DAYLIGHT
TZOFFSETFROM:-0500
TZOFFSETTO:-0400
TZNAME:EDT
DTSTART:20260308T070000
END:DAYLIGHT
BEGIN:STANDARD
TZOFFSETFROM:-0400
TZOFFSETTO:-0500
TZNAME:EST
DTSTART:20261101T060000
END:STANDARD
END:VTIMEZONE
BEGIN:VEVENT
DTSTART;TZID=America/New_York:20250730T000000
DTEND;TZID=America/New_York:20250801T235959
DTSTAMP:20260425T170149
CREATED:20250712T031003Z
LAST-MODIFIED:20250712T031007Z
UID:9692-1753833600-1754092799@bcmworldwide.org
SUMMARY:CLT Module 4: Ndola\, Zambia
DESCRIPTION:Module 4 – Biblical Counseling: How Do You Share It?Developing a local church biblical counseling and training center \n\n\n\nDr. Andrew Rogers and Dr. Kent Dresdow will teach the sessions for Module 4 of our Church Leadership Training (CLT) program for Christian pastors\, elders\, and ministry leaders in Ndola\, Zambia.
URL:https://bcmworldwide.org/event/clt-module-4-ndola-zambia/
LOCATION:Northrise University\, Ndola\, Zambia\, Northrise University\, Ndola\, Zambia
CATEGORIES:BCMW,Church Leadership Training Modules,Leadership Development,Local Church Ministry,Pedras Vivas
ATTACH;FMTTYPE=image/jpeg:https://bcmworldwide.org/wp-content/uploads/2023/12/Zambia-flag-2530569_1920-scaled.jpg
END:VEVENT
BEGIN:VEVENT
DTSTART;TZID=America/New_York:20240304T000000
DTEND;TZID=America/New_York:20240308T235959
DTSTAMP:20260425T170149
CREATED:20240123T190921Z
LAST-MODIFIED:20240123T190924Z
UID:8697-1709510400-1709942399@bcmworldwide.org
SUMMARY:Pedras Vivas MABC: BC and Theology
DESCRIPTION:Biblical Counseling and TheologyThis course offers a consideration of the theological issues that form the basis of a biblical approach to personal ministry. It will consider the theological\, anthropological\, and soteriological presuppositions of treatment theory and seek to bring a thoroughly biblical critique to their foundational assumptions and methodology.Dr. Wayne Vanderwier will lead the above Master of Arts in Biblical Counseling class for students at Pedras Vivas in Sao Paulo\, Brazil.
URL:https://bcmworldwide.org/event/pedras-vivas-mabc-bc-and-theology/
LOCATION:Pedras Vivas\, Sao Paulo\, Brazil\, Sao Paulo\, Brazil
CATEGORIES:Biblical Counseling Ministries Worldwide,MABC,Pedras Vivas
ATTACH;FMTTYPE=image/jpeg:https://bcmworldwide.org/wp-content/uploads/2020/08/Brazil-map-413x327-72-ppi.jpg
END:VEVENT
END:VCALENDAR