BEGIN:VCALENDAR
VERSION:2.0
PRODID:-//BCMW - ECPv6.15.17.1//NONSGML v1.0//EN
CALSCALE:GREGORIAN
METHOD:PUBLISH
X-WR-CALNAME:BCMW
X-ORIGINAL-URL:https://bcmworldwide.org
X-WR-CALDESC:Events for BCMW
REFRESH-INTERVAL;VALUE=DURATION:PT1H
X-Robots-Tag:noindex
X-PUBLISHED-TTL:PT1H
BEGIN:VTIMEZONE
TZID:America/New_York
BEGIN:DAYLIGHT
TZOFFSETFROM:-0500
TZOFFSETTO:-0400
TZNAME:EDT
DTSTART:20240310T070000
END:DAYLIGHT
BEGIN:STANDARD
TZOFFSETFROM:-0400
TZOFFSETTO:-0500
TZNAME:EST
DTSTART:20241103T060000
END:STANDARD
BEGIN:DAYLIGHT
TZOFFSETFROM:-0500
TZOFFSETTO:-0400
TZNAME:EDT
DTSTART:20250309T070000
END:DAYLIGHT
BEGIN:STANDARD
TZOFFSETFROM:-0400
TZOFFSETTO:-0500
TZNAME:EST
DTSTART:20251102T060000
END:STANDARD
BEGIN:DAYLIGHT
TZOFFSETFROM:-0500
TZOFFSETTO:-0400
TZNAME:EDT
DTSTART:20260308T070000
END:DAYLIGHT
BEGIN:STANDARD
TZOFFSETFROM:-0400
TZOFFSETTO:-0500
TZNAME:EST
DTSTART:20261101T060000
END:STANDARD
END:VTIMEZONE
BEGIN:VEVENT
DTSTART;TZID=America/New_York:20250530T000000
DTEND;TZID=America/New_York:20250531T235959
DTSTAMP:20260421T000715
CREATED:20250312T010404Z
LAST-MODIFIED:20250312T010806Z
UID:9513-1748563200-1748735999@bcmworldwide.org
SUMMARY:CDT Weekend 2: Meadow Valley\, CA\, USA
DESCRIPTION:Our Counseling & Discipleship Training (CDT) will continue with weekend two sessions of our biblical counseling training\, hosted by Meadow Valley Community Church. The event includes our Foundations Tracks\, with an option for application of completed training toward ACBC certification. \n\n\n\nThe conference is being held over three weekends:Fri\, May 2 – Sat\, May 3Fri\, May 30 – Sat\, May 31Fri\, June 20 – Sat\, June 21 \n\n\n\nFridays: 6 pm to 9:30 pmSaturdays: 8:30 am to 3:45 pm
URL:https://bcmworldwide.org/event/cdt-weekend-2-meadow-valley-ca-usa/
LOCATION:Meadow Valley Community Church\, Meadow Valley\, CA\, 48 Meadow Valley Road\, Meadow Valley\, California\, 95956\, United States
CATEGORIES:BCMW,CDT,Counseling & Discipleship Training,Leadership Development,Local Church Ministry
ATTACH;FMTTYPE=image/jpeg:https://bcmworldwide.org/wp-content/uploads/2025/03/Meadow-Valley-Logo.jpeg
ORGANIZER;CN="Jen Douglas":MAILTO:jen@bcmworldwide.org
END:VEVENT
END:VCALENDAR