BEGIN:VCALENDAR
VERSION:2.0
PRODID:-//BCMW - ECPv6.15.17.1//NONSGML v1.0//EN
CALSCALE:GREGORIAN
METHOD:PUBLISH
X-WR-CALNAME:BCMW
X-ORIGINAL-URL:https://bcmworldwide.org
X-WR-CALDESC:Events for BCMW
REFRESH-INTERVAL;VALUE=DURATION:PT1H
X-Robots-Tag:noindex
X-PUBLISHED-TTL:PT1H
BEGIN:VTIMEZONE
TZID:America/New_York
BEGIN:DAYLIGHT
TZOFFSETFROM:-0500
TZOFFSETTO:-0400
TZNAME:EDT
DTSTART:20240310T070000
END:DAYLIGHT
BEGIN:STANDARD
TZOFFSETFROM:-0400
TZOFFSETTO:-0500
TZNAME:EST
DTSTART:20241103T060000
END:STANDARD
BEGIN:DAYLIGHT
TZOFFSETFROM:-0500
TZOFFSETTO:-0400
TZNAME:EDT
DTSTART:20250309T070000
END:DAYLIGHT
BEGIN:STANDARD
TZOFFSETFROM:-0400
TZOFFSETTO:-0500
TZNAME:EST
DTSTART:20251102T060000
END:STANDARD
BEGIN:DAYLIGHT
TZOFFSETFROM:-0500
TZOFFSETTO:-0400
TZNAME:EDT
DTSTART:20260308T070000
END:DAYLIGHT
BEGIN:STANDARD
TZOFFSETFROM:-0400
TZOFFSETTO:-0500
TZNAME:EST
DTSTART:20261101T060000
END:STANDARD
END:VTIMEZONE
BEGIN:VEVENT
DTSTART;TZID=America/New_York:20250830T000000
DTEND;TZID=America/New_York:20250830T235959
DTSTAMP:20260423T015016
CREATED:20250901T220721Z
LAST-MODIFIED:20250901T220724Z
UID:9747-1756512000-1756598399@bcmworldwide.org
SUMMARY:Intro to BC Seminar: Orange Walk\, Belize
DESCRIPTION:BCMW Coordinator\, Jonathan Clubb\, will introduce biblical counseling for Christian pastors\, elders\, and other church leaders at Ministerio Evangelico Vino Celestial Trial Farm in Orange Walk.
URL:https://bcmworldwide.org/event/intro-to-bc-seminar-orange-walk-belize/
LOCATION:Orange Walk\, Belize\, Orange Walk\, Belize
CATEGORIES:BCMW,Biblical Counseling One Day Seminar,Leadership Development,Local Church Ministry
ATTACH;FMTTYPE=image/jpeg:https://bcmworldwide.org/wp-content/uploads/2025/09/Belize-banner-750x500-at-72-ppi.jpg
ORGANIZER;CN="Steve Spires":MAILTO:steves@bcmworldwide.org
END:VEVENT
END:VCALENDAR