BEGIN:VCALENDAR
VERSION:2.0
PRODID:-//BCMW - ECPv6.15.17.1//NONSGML v1.0//EN
CALSCALE:GREGORIAN
METHOD:PUBLISH
X-ORIGINAL-URL:https://bcmworldwide.org
X-WR-CALDESC:Events for BCMW
REFRESH-INTERVAL;VALUE=DURATION:PT1H
X-Robots-Tag:noindex
X-PUBLISHED-TTL:PT1H
BEGIN:VTIMEZONE
TZID:America/New_York
BEGIN:DAYLIGHT
TZOFFSETFROM:-0500
TZOFFSETTO:-0400
TZNAME:EDT
DTSTART:20240310T070000
END:DAYLIGHT
BEGIN:STANDARD
TZOFFSETFROM:-0400
TZOFFSETTO:-0500
TZNAME:EST
DTSTART:20241103T060000
END:STANDARD
BEGIN:DAYLIGHT
TZOFFSETFROM:-0500
TZOFFSETTO:-0400
TZNAME:EDT
DTSTART:20250309T070000
END:DAYLIGHT
BEGIN:STANDARD
TZOFFSETFROM:-0400
TZOFFSETTO:-0500
TZNAME:EST
DTSTART:20251102T060000
END:STANDARD
BEGIN:DAYLIGHT
TZOFFSETFROM:-0500
TZOFFSETTO:-0400
TZNAME:EDT
DTSTART:20260308T070000
END:DAYLIGHT
BEGIN:STANDARD
TZOFFSETFROM:-0400
TZOFFSETTO:-0500
TZNAME:EST
DTSTART:20261101T060000
END:STANDARD
END:VTIMEZONE
BEGIN:VEVENT
DTSTART;TZID=America/New_York:20250206T000000
DTEND;TZID=America/New_York:20250208T235959
DTSTAMP:20260423T074559
CREATED:20241114T065046Z
LAST-MODIFIED:20241114T065059Z
UID:9290-1738800000-1739059199@bcmworldwide.org
SUMMARY:CLT Module 1: Lahore\, Pakistan
DESCRIPTION:Module 1 – Biblical Counseling: What it is?Defining a Biblical Sufficiency-Based Model of Personal Ministry and the Nature of Personal Spiritual Growth \n\n\n\nDr. Wayne Vanderwier and Dr. Don Roy will lead the sessions for Module 1 of our Church Leadership Training (CLT) program for pastors\, elders\, and other Christian ministry leaders.
URL:https://bcmworldwide.org/event/clt-module-1-lahore-pakistan-2/
LOCATION:Lahore\, Pakistan\, Lahore\, Pakistan
CATEGORIES:BCMW,Church Leadership Training Modules,Leadership Development,Local Church Ministry,Module 1
ATTACH;FMTTYPE=image/jpeg:https://bcmworldwide.org/wp-content/uploads/2020/07/Vanderwier-Wayne-Susie-300x300-72-ppi.jpg
END:VEVENT
END:VCALENDAR