BEGIN:VCALENDAR
VERSION:2.0
PRODID:-//BCMW - ECPv6.15.17.1//NONSGML v1.0//EN
CALSCALE:GREGORIAN
METHOD:PUBLISH
X-ORIGINAL-URL:https://bcmworldwide.org
X-WR-CALDESC:Events for BCMW
REFRESH-INTERVAL;VALUE=DURATION:PT1H
X-Robots-Tag:noindex
X-PUBLISHED-TTL:PT1H
BEGIN:VTIMEZONE
TZID:America/New_York
BEGIN:DAYLIGHT
TZOFFSETFROM:-0500
TZOFFSETTO:-0400
TZNAME:EDT
DTSTART:20240310T070000
END:DAYLIGHT
BEGIN:STANDARD
TZOFFSETFROM:-0400
TZOFFSETTO:-0500
TZNAME:EST
DTSTART:20241103T060000
END:STANDARD
BEGIN:DAYLIGHT
TZOFFSETFROM:-0500
TZOFFSETTO:-0400
TZNAME:EDT
DTSTART:20250309T070000
END:DAYLIGHT
BEGIN:STANDARD
TZOFFSETFROM:-0400
TZOFFSETTO:-0500
TZNAME:EST
DTSTART:20251102T060000
END:STANDARD
BEGIN:DAYLIGHT
TZOFFSETFROM:-0500
TZOFFSETTO:-0400
TZNAME:EDT
DTSTART:20260308T070000
END:DAYLIGHT
BEGIN:STANDARD
TZOFFSETFROM:-0400
TZOFFSETTO:-0500
TZNAME:EST
DTSTART:20261101T060000
END:STANDARD
END:VTIMEZONE
BEGIN:VEVENT
DTSTART;TZID=America/New_York:20251128T000000
DTEND;TZID=America/New_York:20251130T235959
DTSTAMP:20260425T091614
CREATED:20250410T170704Z
LAST-MODIFIED:20250410T170708Z
UID:9541-1764288000-1764547199@bcmworldwide.org
SUMMARY:CLT Module 4: Tamatave\, Madagascar
DESCRIPTION:Module 4 – Biblical Counseling: How Do You Share It?Developing a local church biblical counseling and training centerBCMW Coordinators\, Dr. Don Roy and Robert Sidlo\, will lead the sessions for Module 4 of the Church Leadership Training (CLT) program for Christian church leaders\, completing this set of biblical counseling training.
URL:https://bcmworldwide.org/event/clt-module-4-tamatave-madagascar/
LOCATION:Tamatave\, Madagascar\, Tamatave\, Madagascar
CATEGORIES:BCMW,Church Leadership Training Modules,Leadership Development,Local Church Ministry,Module 4
ATTACH;FMTTYPE=image/jpeg:https://bcmworldwide.org/wp-content/uploads/2020/07/Roy-Don-Elizabeth-300x300-72-ppi.jpg
END:VEVENT
END:VCALENDAR