BEGIN:VCALENDAR
VERSION:2.0
PRODID:-//BCMW - ECPv6.15.17.1//NONSGML v1.0//EN
CALSCALE:GREGORIAN
METHOD:PUBLISH
X-ORIGINAL-URL:https://bcmworldwide.org
X-WR-CALDESC:Events for BCMW
REFRESH-INTERVAL;VALUE=DURATION:PT1H
X-Robots-Tag:noindex
X-PUBLISHED-TTL:PT1H
BEGIN:VTIMEZONE
TZID:America/New_York
BEGIN:DAYLIGHT
TZOFFSETFROM:-0500
TZOFFSETTO:-0400
TZNAME:EDT
DTSTART:20250309T070000
END:DAYLIGHT
BEGIN:STANDARD
TZOFFSETFROM:-0400
TZOFFSETTO:-0500
TZNAME:EST
DTSTART:20251102T060000
END:STANDARD
BEGIN:DAYLIGHT
TZOFFSETFROM:-0500
TZOFFSETTO:-0400
TZNAME:EDT
DTSTART:20260308T070000
END:DAYLIGHT
BEGIN:STANDARD
TZOFFSETFROM:-0400
TZOFFSETTO:-0500
TZNAME:EST
DTSTART:20261101T060000
END:STANDARD
BEGIN:DAYLIGHT
TZOFFSETFROM:-0500
TZOFFSETTO:-0400
TZNAME:EDT
DTSTART:20270314T070000
END:DAYLIGHT
BEGIN:STANDARD
TZOFFSETFROM:-0400
TZOFFSETTO:-0500
TZNAME:EST
DTSTART:20271107T060000
END:STANDARD
END:VTIMEZONE
BEGIN:VEVENT
DTSTART;TZID=America/New_York:20260119T000000
DTEND;TZID=America/New_York:20260121T235959
DTSTAMP:20260425T120013
CREATED:20260113T025522Z
LAST-MODIFIED:20260113T025525Z
UID:9972-1768780800-1769039999@bcmworldwide.org
SUMMARY:CLT Module 1: Plateau\, Nigeria
DESCRIPTION:Module 1 – Biblical Counseling: What is It?Defining a biblical sufficiency-based model of personal ministry and the nature of personal spiritual growth \n\n\n\nDr. Wayne Vanderwier will introduce our Church Leadership Training (CLT) program for Christian pastors\, elders\, ministry leaders\, and church members by teaching the sessions for Module 1.
URL:https://bcmworldwide.org/event/clt-module-1-plateau-nigeria/
LOCATION:Plateau\, Nigeria\, Miango\, Plateau\, Nigeria
CATEGORIES:BCMW,Church Leadership Training Modules,Leadership Development,Local Church Ministry,Module 1
ATTACH;FMTTYPE=image/png:https://bcmworldwide.org/wp-content/uploads/2024/11/Nigeria-flag-750x609-72-ppi.png
END:VEVENT
END:VCALENDAR