BEGIN:VCALENDAR
VERSION:2.0
PRODID:-//BCMW - ECPv6.15.17.1//NONSGML v1.0//EN
CALSCALE:GREGORIAN
METHOD:PUBLISH
X-ORIGINAL-URL:https://bcmworldwide.org
X-WR-CALDESC:Events for BCMW
REFRESH-INTERVAL;VALUE=DURATION:PT1H
X-Robots-Tag:noindex
X-PUBLISHED-TTL:PT1H
BEGIN:VTIMEZONE
TZID:America/New_York
BEGIN:DAYLIGHT
TZOFFSETFROM:-0500
TZOFFSETTO:-0400
TZNAME:EDT
DTSTART:20230312T070000
END:DAYLIGHT
BEGIN:STANDARD
TZOFFSETFROM:-0400
TZOFFSETTO:-0500
TZNAME:EST
DTSTART:20231105T060000
END:STANDARD
BEGIN:DAYLIGHT
TZOFFSETFROM:-0500
TZOFFSETTO:-0400
TZNAME:EDT
DTSTART:20240310T070000
END:DAYLIGHT
BEGIN:STANDARD
TZOFFSETFROM:-0400
TZOFFSETTO:-0500
TZNAME:EST
DTSTART:20241103T060000
END:STANDARD
BEGIN:DAYLIGHT
TZOFFSETFROM:-0500
TZOFFSETTO:-0400
TZNAME:EDT
DTSTART:20250309T070000
END:DAYLIGHT
BEGIN:STANDARD
TZOFFSETFROM:-0400
TZOFFSETTO:-0500
TZNAME:EST
DTSTART:20251102T060000
END:STANDARD
END:VTIMEZONE
BEGIN:VEVENT
DTSTART;TZID=America/New_York:20240830T000000
DTEND;TZID=America/New_York:20240831T235959
DTSTAMP:20260422T202410
CREATED:20240906T041846Z
LAST-MODIFIED:20240906T041850Z
UID:9141-1724976000-1725148799@bcmworldwide.org
SUMMARY:CLT Module 1: Teresina\, Brazil
DESCRIPTION:Module 1 – Biblical Counseling: What it is?Defining a biblical sufficiency-based model of personal ministry and the nature of personal spiritual growth \n\n\n\nTiago Wagner\, BCMW Brazil Coordinator\, has arranged for Module 1 of our Church Leadership Training (CLT) program to be held at Igreja: ICE Zona Leste in Teresina.
URL:https://bcmworldwide.org/event/clt-module-1-teresina-brazil/
LOCATION:Igreja: ICE Zona Leste\, Teresina\, Brazil\, Av. Aquiles Wall Ferraz\, n 5599\, Teresina\, 64069-020\, Brazil
CATEGORIES:BCMW,Church Leadership Training Modules,Leadership Development,Local Church Ministry,Module 1
ATTACH;FMTTYPE=image/jpeg:https://bcmworldwide.org/wp-content/uploads/2020/08/Brazil-map-413x327-72-ppi.jpg
ORGANIZER;CN="Tiago & Ariane Wagner":MAILTO:tiagowag@gmail.com
END:VEVENT
END:VCALENDAR