BEGIN:VCALENDAR
VERSION:2.0
PRODID:-//BCMW - ECPv6.15.17.1//NONSGML v1.0//EN
CALSCALE:GREGORIAN
METHOD:PUBLISH
X-ORIGINAL-URL:https://bcmworldwide.org
X-WR-CALDESC:Events for BCMW
REFRESH-INTERVAL;VALUE=DURATION:PT1H
X-Robots-Tag:noindex
X-PUBLISHED-TTL:PT1H
BEGIN:VTIMEZONE
TZID:America/New_York
BEGIN:DAYLIGHT
TZOFFSETFROM:-0500
TZOFFSETTO:-0400
TZNAME:EDT
DTSTART:20240310T070000
END:DAYLIGHT
BEGIN:STANDARD
TZOFFSETFROM:-0400
TZOFFSETTO:-0500
TZNAME:EST
DTSTART:20241103T060000
END:STANDARD
BEGIN:DAYLIGHT
TZOFFSETFROM:-0500
TZOFFSETTO:-0400
TZNAME:EDT
DTSTART:20250309T070000
END:DAYLIGHT
BEGIN:STANDARD
TZOFFSETFROM:-0400
TZOFFSETTO:-0500
TZNAME:EST
DTSTART:20251102T060000
END:STANDARD
BEGIN:DAYLIGHT
TZOFFSETFROM:-0500
TZOFFSETTO:-0400
TZNAME:EDT
DTSTART:20260308T070000
END:DAYLIGHT
BEGIN:STANDARD
TZOFFSETFROM:-0400
TZOFFSETTO:-0500
TZNAME:EST
DTSTART:20261101T060000
END:STANDARD
END:VTIMEZONE
BEGIN:VEVENT
DTSTART;TZID=America/New_York:20250526T000000
DTEND;TZID=America/New_York:20250528T235959
DTSTAMP:20260421T080022
CREATED:20250528T040044Z
LAST-MODIFIED:20250528T040052Z
UID:9609-1748217600-1748476799@bcmworldwide.org
SUMMARY:Process of Biblical Change: Irpin\, Ukraine
DESCRIPTION:Process of Biblical Change – 3 credit hoursThis course describes various views of personal spiritual growth and offers a biblical view of progressive sanctification. The concept of motivation is explored from a biblical perspective. A biblical view of self and evangelical perspectives concerning the issue of forgiveness are explained. \n\n\n\nBCMW Coordinator\, Andriy Murzin\, and Andriy Knyjnyk will teach this academic course for students of Irpin Biblical Seminary near Kyiv\, Ukraine.
URL:https://bcmworldwide.org/event/process-of-biblical-change-irpin-ukraine/
LOCATION:Irpin Biblical Seminary\, Irpin\, Ukraine\, Kyiv\, Ukraine
CATEGORIES:BCMW,Biblical Counseling Graduate Degree,Leadership Development,Local Church Ministry
ATTACH;FMTTYPE=image/jpeg:https://bcmworldwide.org/wp-content/uploads/2022/11/Murzin-Andrei-Olya-300x300-72-ppi-300x300-1.jpg
ORGANIZER;CN="Andriy Murzin":MAILTO:andriy@bcmworldwide.org
END:VEVENT
END:VCALENDAR